Workbook
Name comm1: 'Commission Data'!$B$1
Name comm2: 'Commission Data'!$B$2
Name comm3: 'Commission Data'!$B$3
Name comm4: 'Commission Data'!$B$4
Name comm5: 'Commission Data'!$B$5
Name comm6: 'Commission Data'!$B$6
Name comm7: 'Commission Data'!$B$7
Name comm8: 'Commission Data'!$B$8
Name comm9: 'Commission Data'!$B$9
Name data: OFFSET('Trade Data'!$A$1,0,0,COUNTA('Trade Data'!$A:$A),COUNTA('Trade Data'!$1:$1))
Name daymap: [1]mapping!$A$1:$B$7
Name level1: 'Commission Data'!$A$1
Name level2: 'Commission Data'!$A$2
Name level3: 'Commission Data'!$A$3
Name level4: 'Commission Data'!$A$4
Name level5: 'Commission Data'!$A$5
Name level6: 'Commission Data'!$A$6
Name level7: 'Commission Data'!$A$7
Name level8: 'Commission Data'!$A$8
Name level9: 'Commission Data'!$A$9
Name trig1: 'Commission Data'!$A$1

Sheet RESULT
A1: result1 | B1: result2 | C1: Win/loss ratio | D1: Average Pips | E1: Average $
A2: win # | B2: =COUNTIF('Trade Data'!G:G,">0") -> 0 | C2: =B2/SUM($B$2:$B$3) -> #DIV/0! | D2: =SUMIF('Trade Data'!$H:$H,">0",'Trade Data'!$H:$H)/$B2 -> #DIV/0! | E2: =SUMIF('Trade Data'!$G:$G,">0",'Trade Data'!$G:$G)/$B2 -> #DIV/0!
A3: loss # | B3: =COUNTIF('Trade Data'!G:G,"<0") -> 0 | C3: =B3/SUM($B$2:$B$3) -> #DIV/0! | D3: =SUMIF('Trade Data'!$H:$H,"<0",'Trade Data'!$H:$H)/$B3 -> #DIV/0! | E3: =SUMIF('Trade Data'!$G:$G,"<0",'Trade Data'!$G:$G)/$B3 -> #DIV/0!
A4: total trades # | B4: =SUM(B2:B3) -> 0 | E4: =SUM('Trade Data'!G:G)/B4 -> #DIV/0!
A5: Profit Factor | B5: =SUMIF('Trade Data'!$G:$G,">0")/-SUMIF('Trade Data'!$G:$G,"<0") -> #DIV/0!
A7: min equity | B7: =MIN('Trade Data'!U:U) -> 10000 | C7: =(B7/B19)-1 -> 0
A8: max equity | B8: =MAX('Trade Data'!U:U) -> 10000
A9: Final Equity | B9: =$B$19+SUM('Trade Data'!G:G)-SUM('Trade Data'!T:T) -> 10000
A11: Consecutive # losses | B11: =MIN('Trade Data'!W:W) -> 0
A12: Consecutive $ losses | B12: =MIN('Trade Data'!V:V) -> 0
A13: Consecutive # wins | B13: =MAX('Trade Data'!W:W) -> 1
A14: Consecutive $ wins | B14: =MAX('Trade Data'!V:V) -> 0
A16: Av duration / Hrs | B16: =AVERAGE('Trade Data'!X:X) -> #DIV/0! | C16: pip/trade | D16: pip/day
A17: Total Pips | B17: =SUM('Trade Data'!H:H) -> 0 | C17: =B17/B4 -> #DIV/0! | D17: =B17/(INDEX('Trade Data'!J:J,MATCH(9.99999999999999E+307,'Trade Data'!J:J))-'Trade Data'!I2) -> #N/A
H18: trades | I18: $
A19: Start Equity | B19: 10000 | C19: INPUT CELL | G19: max week win | H19: =MAX('win-loss per week'!B:B) -> 0 | I19: =MAX('Weekly performance'!B:B) -> 0
A20: commission | B20: =SUM('Trade Data'!T:T) -> 0 | G20: min week win | H20: =MIN('win-loss per week'!B:B) -> 0
A21: Position limit | B21: 10 | G21: max week loss | H21: =MAX('win-loss per week'!C:C) -> 0 | I21: =MIN('Weekly performance'!B:B) -> 0
G22: min week loss | H22: =MIN('win-loss per week'!C:C) -> 0
A23: average position | B23: =AVERAGE('Trade Data'!C:C) -> #DIV/0!
A24: min position | B24: =MIN('Trade Data'!C:C) -> 0 | G24: # loss weeks | H24: =COUNTIF('Weekly performance'!B:B,"<0") -> 0 | I24: =H24/SUM($H$24:$H$25) -> #DIV/0!
G25: # win weeks | H25: =COUNTIF('Weekly performance'!B:B,">0") -> 0 | I25: =H25/SUM($H$24:$H$25) -> #DIV/0!
A26: average duration | B26: =AVERAGE('Trade Data'!X:X) -> #DIV/0!
A27: min duration win | B27: =MIN('Trade Data'!Y:Y) -> 0
A28: av duration win | B28: =AVERAGEIF('Trade Data'!H:H,">0",'Trade Data'!X:X) -> #DIV/0!
A29: max duration win | B29: =MAX('Trade Data'!Y:Y) -> 0 | D29: Optimal duration: | E29: =SUM(Duration!E:E)&" hours" -> 0 hours
A30: min duration loss | B30: =MIN('Trade Data'!Z:Z) -> 0
A31: av duration loss | B31: =AVERAGEIF('Trade Data'!H:H,"<0",'Trade Data'!X:X) -> #DIV/0!
A32: max duration loss | B32: =MAX('Trade Data'!Z:Z) -> 0

Sheet Trade Data
A1: Instrument | B1: Label | C1: Amount | D1: Direction | E1: Open price | F1: Close price | G1: Profit/Loss | H1: Profit/Loss in pips | I1: Open date | J1: Close date | K1: Comment | L1: dayopen | M1: dayclose | N1: year | O1: month | P1: week | Q1: Hour | R1: Minute | S1: date | T1: Commission tablebased | U1: cumulative_Equity | V1: consecutive PL | W1: consecutive # | X1: Duration-hr | Y1: duration-win | Z1: duration-loss | AA1: pause / min | AB1: Cumulative Win/loss | AC1: Running Win/loss | AD1: WL trigger | AE1: running win/loss | AF1: Run pip per trade | AG1: Cumulative Profit Factor | AH1: over weekend | AI1: win | AJ1: loss | AK1: $ / pip
A2: =LEFT(B2,4) | L2: =VLOOKUP(WEEKDAY(I2),daymap,2,0) -> Saturday | M2: =VLOOKUP(WEEKDAY(J2),daymap,2,0) -> Saturday | N2: =YEAR(I2) -> 1900 | O2: =MONTH(I2) -> 1 | P2: =WEEKNUM(I2) -> 0 | Q2: =HOUR(I2) -> 0 | R2: =MINUTE(I2) -> 0 | S2: =YEAR(I2)&"/"&MONTH(I2)&"/"&DAY(I2) -> 1900/1/0 | T2: =2*E2*C2*(IF(AT19<level1,comm1,IF(AT19<level2,comm2,IF(AT19<level3,comm3,IF(AT19<level4,comm4,IF(AT19<level5,comm5,IF(AT19<level6,comm6,IF(AT19<level7,comm7,IF(AT19<level8,comm8,IF(AT19<level9,comm9,0)))))))))) -> 0 | U2: =RESULT!$B$19+$G2-$T2 -> 10000 | W2: 1 | X2: =IF(J2="","",ROUNDDOWN(($J2-$I2)*24,0)) | Y2: =IF(J2="","",IF($H2>0,ROUNDDOWN(($J2-$I2)*24,0),"")) | Z2: =IF(J2="","",IF($H2<0,($J2-$I2)*24,"")) | AG2: =IF(ISERROR(SUMIF($G$1:$G2,">0")/-SUMIF($G$1:$G2,"<0"))=FALSE,SUMIF($G$1:$G2,">0")/-SUMIF($G$1:$G2,"<0"),"") | AI2: =IF(SIGN($G2)=1,1,"") | AJ2: =IF(SIGN($G2)=-1,1,"") | AK2: =G2/H2 -> #DIV/0!
A3: =LEFT(B3,4) | L3: =VLOOKUP(WEEKDAY(I3),daymap,2,0) -> Saturday | M3: =VLOOKUP(WEEKDAY(J3),daymap,2,0) -> Saturday | N3: =YEAR(I3) -> 1900 | O3: =MONTH(I3) -> 1 | P3: =WEEKNUM(I3) -> 0 | Q3: =HOUR(I3) -> 0 | R3: =MINUTE(I3) -> 0 | S3: =YEAR(I3)&"/"&MONTH(I3)&"/"&DAY(I3) -> 1900/1/0 | T3: =2*E3*C3*(IF(AT20<level1,comm1,IF(AT20<level2,comm2,IF(AT20<level3,comm3,IF(AT20<level4,comm4,IF(AT20<level5,comm5,IF(AT20<level6,comm6,IF(AT20<level7,comm7,IF(AT20<level8,comm8,IF(AT20<level9,comm9,0)))))))))) -> 0 | U3: =$U2+$G3-$T3 -> 10000 | V3: =IF(ROW()=2,IF(SIGN($G2)<>SIGN($G3),$G3,$G2+$G3),IF(SIGN($G2)<>SIGN($G3),$G3,$G3+$V2)) -> 0 | W3: =IF(SIGN(H3)=1,IF(AND(H2>0,H3>0),1+W2,IF(H3>0,1,0)),IF(AND(H2<0,H3<0),W2-1,IF(H3<0,-1,0))) -> 0 | X3: =IF(J3="","",ROUNDDOWN(($J3-$I3)*24,0)) | Y3: =IF(J3="","",IF($H3>0,ROUNDDOWN(($J3-$I3)*24,0),"")) | Z3: =IF(J3="","",IF($H3<0,($J3-$I3)*24,"")) | AA3: =ROUNDDOWN((I3-J2)*24*60,0) -> 0 | AB3: =COUNTIF($H$2:$H3,">0")/(COUNTIF($H$2:$H3,"<0")+COUNTIF($H$2:$H3,">0")) -> #DIV/0! | AG3: =IF(ISERROR(SUMIF($G$1:$G3,">0")/-SUMIF($G$1:$G3,"<0"))=FALSE,SUMIF($G$1:$G3,">0")/-SUMIF($G$1:$G3,"<0"),"") | AI3: =IF(SIGN($G3)=1,1,"") | AJ3: =IF(SIGN($G3)=-1,1,"") | AK3: =G3/H3 -> #DIV/0!
A4: =LEFT(B4,4) | L4: =VLOOKUP(WEEKDAY(I4),daymap,2,0) -> Saturday | M4: =VLOOKUP(WEEKDAY(J4),daymap,2,0) -> Saturday | N4: =YEAR(I4) -> 1900 | O4: =MONTH(I4) -> 1 | P4: =WEEKNUM(I4) -> 0 | Q4: =HOUR(I4) -> 0 | R4: =MINUTE(I4) -> 0 | S4: =YEAR(I4)&"/"&MONTH(I4)&"/"&DAY(I4) -> 1900/1/0 | T4: =2*E4*C4*(IF(AT21<level1,comm1,IF(AT21<level2,comm2,IF(AT21<level3,comm3,IF(AT21<level4,comm4,IF(AT21<level5,comm5,IF(AT21<level6,comm6,IF(AT21<level7,comm7,IF(AT21<level8,comm8,IF(AT21<level9,comm9,0)))))))))) -> 0 | U4: =U3+G4-T4 -> 10000 | V4: =IF(ROW()=2,IF(SIGN($G3)<>SIGN($G4),$G4,$G3+$G4),IF(SIGN($G3)<>SIGN($G4),$G4,$G4+$V3)) -> 0 | W4: =IF(SIGN(H4)=1,IF(AND(H3>0,H4>0),1+W3,IF(H4>0,1,0)),IF(AND(H3<0,H4<0),W3-1,IF(H4<0,-1,0))) -> 0 | X4: =IF(J4="","",ROUNDDOWN(($J4-$I4)*24,0)) | Y4: =IF(J4="","",IF($H4>0,ROUNDDOWN(($J4-$I4)*24,0),"")) | Z4: =IF(J4="","",IF($H4<0,($J4-$I4)*24,"")) | AA4: =ROUNDDOWN((I4-J3)*24*60,0) -> 0 | AB4: =COUNTIF(H$2:H4,">0")/(COUNTIF(H$2:H4,"<0")+COUNTIF(H$2:H4,">0")) -> #DIV/0! | AG4: =IF(ISERROR(SUMIF($G$1:$G4,">0")/-SUMIF($G$1:$G4,"<0"))=FALSE,SUMIF($G$1:$G4,">0")/-SUMIF($G$1:$G4,"<0"),"") | AI4: =IF(SIGN($G4)=1,1,"") | AJ4: =IF(SIGN($G4)=-1,1,"") | AK4: =G4/H4 -> #DIV/0!
A5: =LEFT(B5,4) | L5: =VLOOKUP(WEEKDAY(I5),daymap,2,0) -> Saturday | M5: =VLOOKUP(WEEKDAY(J5),daymap,2,0) -> Saturday | N5: =YEAR(I5) -> 1900 | O5: =MONTH(I5) -> 1 | P5: =WEEKNUM(I5) -> 0 | Q5: =HOUR(I5) -> 0 | R5: =MINUTE(I5) -> 0 | S5: =YEAR(I5)&"/"&MONTH(I5)&"/"&DAY(I5) -> 1900/1/0 | T5: =2*E5*C5*(IF(AT22<level1,comm1,IF(AT22<level2,comm2,IF(AT22<level3,comm3,IF(AT22<level4,comm4,IF(AT22<level5,comm5,IF(AT22<level6,comm6,IF(AT22<level7,comm7,IF(AT22<level8,comm8,IF(AT22<level9,comm9,0)))))))))) -> 0 | U5: =U4+G5-T5 -> 10000 | V5: =IF(ROW()=2,IF(SIGN($G4)<>SIGN($G5),$G5,$G4+$G5),IF(SIGN($G4)<>SIGN($G5),$G5,$G5+$V4)) -> 0 | W5: =IF(SIGN(H5)=1,IF(AND(H4>0,H5>0),1+W4,IF(H5>0,1,0)),IF(AND(H4<0,H5<0),W4-1,IF(H5<0,-1,0))) -> 0 | X5: =IF(J5="","",ROUNDDOWN(($J5-$I5)*24,0)) | Y5: =IF(J5="","",IF($H5>0,ROUNDDOWN(($J5-$I5)*24,0),"")) | Z5: =IF(J5="","",IF($H5<0,($J5-$I5)*24,"")) | AA5: =ROUNDDOWN((I5-J4)*24*60,0) -> 0 | AB5: =COUNTIF(H$2:H5,">0")/(COUNTIF(H$2:H5,"<0")+COUNTIF(H$2:H5,">0")) -> #DIV/0! | AG5: =IF(ISERROR(SUMIF($G$1:$G5,">0")/-SUMIF($G$1:$G5,"<0"))=FALSE,SUMIF($G$1:$G5,">0")/-SUMIF($G$1:$G5,"<0"),"") | AI5: =IF(SIGN($G5)=1,1,"") | AJ5: =IF(SIGN($G5)=-1,1,"") | AK5: =G5/H5 -> #DIV/0!
A6: =LEFT(B6,4) | L6: =VLOOKUP(WEEKDAY(I6),daymap,2,0) -> Saturday | M6: =VLOOKUP(WEEKDAY(J6),daymap,2,0) -> Saturday | N6: =YEAR(I6) -> 1900 | O6: =MONTH(I6) -> 1 | P6: =WEEKNUM(I6) -> 0 | Q6: =HOUR(I6) -> 0 | R6: =MINUTE(I6) -> 0 | S6: =YEAR(I6)&"/"&MONTH(I6)&"/"&DAY(I6) -> 1900/1/0 | T6: =2*E6*C6*(IF(AT23<level1,comm1,IF(AT23<level2,comm2,IF(AT23<level3,comm3,IF(AT23<level4,comm4,IF(AT23<level5,comm5,IF(AT23<level6,comm6,IF(AT23<level7,comm7,IF(AT23<level8,comm8,IF(AT23<level9,comm9,0)))))))))) -> 0 | U6: =U5+G6-T6 -> 10000 | V6: =IF(ROW()=2,IF(SIGN($G5)<>SIGN($G6),$G6,$G5+$G6),IF(SIGN($G5)<>SIGN($G6),$G6,$G6+$V5)) -> 0 | W6: =IF(SIGN(H6)=1,IF(AND(H5>0,H6>0),1+W5,IF(H6>0,1,0)),IF(AND(H5<0,H6<0),W5-1,IF(H6<0,-1,0))) -> 0 | X6: =IF(J6="","",ROUNDDOWN(($J6-$I6)*24,0)) | Y6: =IF(J6="","",IF($H6>0,ROUNDDOWN(($J6-$I6)*24,0),"")) | Z6: =IF(J6="","",IF($H6<0,($J6-$I6)*24,"")) | AA6: =ROUNDDOWN((I6-J5)*24*60,0) -> 0 | AB6: =COUNTIF(H$2:H6,">0")/(COUNTIF(H$2:H6,"<0")+COUNTIF(H$2:H6,">0")) -> #DIV/0! | AG6: =IF(ISERROR(SUMIF($G$1:$G6,">0")/-SUMIF($G$1:$G6,"<0"))=FALSE,SUMIF($G$1:$G6,">0")/-SUMIF($G$1:$G6,"<0"),"") | AI6: =IF(SIGN($G6)=1,1,"") | AJ6: =IF(SIGN($G6)=-1,1,"") | AK6: =G6/H6 -> #DIV/0!
A7: =LEFT(B7,4) | L7: =VLOOKUP(WEEKDAY(I7),daymap,2,0) -> Saturday | M7: =VLOOKUP(WEEKDAY(J7),daymap,2,0) -> Saturday | N7: =YEAR(I7) -> 1900 | O7: =MONTH(I7) -> 1 | P7: =WEEKNUM(I7) -> 0 | Q7: =HOUR(I7) -> 0 | R7: =MINUTE(I7) -> 0 | S7: =YEAR(I7)&"/"&MONTH(I7)&"/"&DAY(I7) -> 1900/1/0 | T7: =2*E7*C7*(IF(AT24<level1,comm1,IF(AT24<level2,comm2,IF(AT24<level3,comm3,IF(AT24<level4,comm4,IF(AT24<level5,comm5,IF(AT24<level6,comm6,IF(AT24<level7,comm7,IF(AT24<level8,comm8,IF(AT24<level9,comm9,0)))))))))) -> 0 | U7: =U6+G7-T7 -> 10000 | V7: =IF(ROW()=2,IF(SIGN($G6)<>SIGN($G7),$G7,$G6+$G7),IF(SIGN($G6)<>SIGN($G7),$G7,$G7+$V6)) -> 0 | W7: =IF(SIGN(H7)=1,IF(AND(H6>0,H7>0),1+W6,IF(H7>0,1,0)),IF(AND(H6<0,H7<0),W6-1,IF(H7<0,-1,0))) -> 0 | X7: =IF(J7="","",ROUNDDOWN(($J7-$I7)*24,0)) | Y7: =IF(J7="","",IF($H7>0,ROUNDDOWN(($J7-$I7)*24,0),"")) | Z7: =IF(J7="","",IF($H7<0,($J7-$I7)*24,"")) | AA7: =ROUNDDOWN((I7-J6)*24*60,0) -> 0 | AB7: =COUNTIF(H$2:H7,">0")/(COUNTIF(H$2:H7,"<0")+COUNTIF(H$2:H7,">0")) -> #DIV/0! | AG7: =IF(ISERROR(SUMIF($G$1:$G7,">0")/-SUMIF($G$1:$G7,"<0"))=FALSE,SUMIF($G$1:$G7,">0")/-SUMIF($G$1:$G7,"<0"),"") | AI7: =IF(SIGN($G7)=1,1,"") | AJ7: =IF(SIGN($G7)=-1,1,"") | AK7: =G7/H7 -> #DIV/0!
A8: =LEFT(B8,4) | L8: =VLOOKUP(WEEKDAY(I8),daymap,2,0) -> Saturday | M8: =VLOOKUP(WEEKDAY(J8),daymap,2,0) -> Saturday | N8: =YEAR(I8) -> 1900 | O8: =MONTH(I8) -> 1 | P8: =WEEKNUM(I8) -> 0 | Q8: =HOUR(I8) -> 0 | R8: =MINUTE(I8) -> 0 | S8: =YEAR(I8)&"/"&MONTH(I8)&"/"&DAY(I8) -> 1900/1/0 | T8: =2*E8*C8*(IF(AT25<level1,comm1,IF(AT25<level2,comm2,IF(AT25<level3,comm3,IF(AT25<level4,comm4,IF(AT25<level5,comm5,IF(AT25<level6,comm6,IF(AT25<level7,comm7,IF(AT25<level8,comm8,IF(AT25<level9,comm9,0)))))))))) -> 0 | U8: =U7+G8-T8 -> 10000 | V8: =IF(ROW()=2,IF(SIGN($G7)<>SIGN($G8),$G8,$G7+$G8),IF(SIGN($G7)<>SIGN($G8),$G8,$G8+$V7)) -> 0 | W8: =IF(SIGN(H8)=1,IF(AND(H7>0,H8>0),1+W7,IF(H8>0,1,0)),IF(AND(H7<0,H8<0),W7-1,IF(H8<0,-1,0))) -> 0 | X8: =IF(J8="","",ROUNDDOWN(($J8-$I8)*24,0)) | Y8: =IF(J8="","",IF($H8>0,ROUNDDOWN(($J8-$I8)*24,0),"")) | Z8: =IF(J8="","",IF($H8<0,($J8-$I8)*24,"")) | AA8: =ROUNDDOWN((I8-J7)*24*60,0) -> 0 | AB8: =COUNTIF(H$2:H8,">0")/(COUNTIF(H$2:H8,"<0")+COUNTIF(H$2:H8,">0")) -> #DIV/0! | AG8: =IF(ISERROR(SUMIF($G$1:$G8,">0")/-SUMIF($G$1:$G8,"<0"))=FALSE,SUMIF($G$1:$G8,">0")/-SUMIF($G$1:$G8,"<0"),"") | AI8: =IF(SIGN($G8)=1,1,"") | AJ8: =IF(SIGN($G8)=-1,1,"") | AK8: =G8/H8 -> #DIV/0!
A9: =LEFT(B9,4) | L9: =VLOOKUP(WEEKDAY(I9),daymap,2,0) -> Saturday | M9: =VLOOKUP(WEEKDAY(J9),daymap,2,0) -> Saturday | N9: =YEAR(I9) -> 1900 | O9: =MONTH(I9) -> 1 | P9: =WEEKNUM(I9) -> 0 | Q9: =HOUR(I9) -> 0 | R9: =MINUTE(I9) -> 0 | S9: =YEAR(I9)&"/"&MONTH(I9)&"/"&DAY(I9) -> 1900/1/0 | T9: =2*E9*C9*(IF(AT26<level1,comm1,IF(AT26<level2,comm2,IF(AT26<level3,comm3,IF(AT26<level4,comm4,IF(AT26<level5,comm5,IF(AT26<level6,comm6,IF(AT26<level7,comm7,IF(AT26<level8,comm8,IF(AT26<level9,comm9,0)))))))))) -> 0 | U9: =U8+G9-T9 -> 10000 | V9: =IF(ROW()=2,IF(SIGN($G8)<>SIGN($G9),$G9,$G8+$G9),IF(SIGN($G8)<>SIGN($G9),$G9,$G9+$V8)) -> 0 | W9: =IF(SIGN(H9)=1,IF(AND(H8>0,H9>0),1+W8,IF(H9>0,1,0)),IF(AND(H8<0,H9<0),W8-1,IF(H9<0,-1,0))) -> 0 | X9: =IF(J9="","",ROUNDDOWN(($J9-$I9)*24,0)) | Y9: =IF(J9="","",IF($H9>0,ROUNDDOWN(($J9-$I9)*24,0),"")) | Z9: =IF(J9="","",IF($H9<0,($J9-$I9)*24,"")) | AA9: =ROUNDDOWN((I9-J8)*24*60,0) -> 0 | AB9: =COUNTIF(H$2:H9,">0")/(COUNTIF(H$2:H9,"<0")+COUNTIF(H$2:H9,">0")) -> #DIV/0! | AG9: =IF(ISERROR(SUMIF($G$1:$G9,">0")/-SUMIF($G$1:$G9,"<0"))=FALSE,SUMIF($G$1:$G9,">0")/-SUMIF($G$1:$G9,"<0"),"") | AI9: =IF(SIGN($G9)=1,1,"") | AJ9: =IF(SIGN($G9)=-1,1,"") | AK9: =G9/H9 -> #DIV/0!
A10: =LEFT(B10,4) | L10: =VLOOKUP(WEEKDAY(I10),daymap,2,0) -> Saturday | M10: =VLOOKUP(WEEKDAY(J10),daymap,2,0) -> Saturday | N10: =YEAR(I10) -> 1900 | O10: =MONTH(I10) -> 1 | P10: =WEEKNUM(I10) -> 0 | Q10: =HOUR(I10) -> 0 | R10: =MINUTE(I10) -> 0 | S10: =YEAR(I10)&"/"&MONTH(I10)&"/"&DAY(I10) -> 1900/1/0 | T10: =2*E10*C10*(IF(AT27<level1,comm1,IF(AT27<level2,comm2,IF(AT27<level3,comm3,IF(AT27<level4,comm4,IF(AT27<level5,comm5,IF(AT27<level6,comm6,IF(AT27<level7,comm7,IF(AT27<level8,comm8,IF(AT27<level9,comm9,0)))))))))) -> 0 | U10: =U9+G10-T10 -> 10000 | V10: =IF(ROW()=2,IF(SIGN($G9)<>SIGN($G10),$G10,$G9+$G10),IF(SIGN($G9)<>SIGN($G10),$G10,$G10+$V9)) -> 0 | W10: =IF(SIGN(H10)=1,IF(AND(H9>0,H10>0),1+W9,IF(H10>0,1,0)),IF(AND(H9<0,H10<0),W9-1,IF(H10<0,-1,0))) -> 0 | X10: =IF(J10="","",ROUNDDOWN(($J10-$I10)*24,0)) | Y10: =IF(J10="","",IF($H10>0,ROUNDDOWN(($J10-$I10)*24,0),"")) | Z10: =IF(J10="","",IF($H10<0,($J10-$I10)*24,"")) | AA10: =ROUNDDOWN((I10-J9)*24*60,0) -> 0 | AB10: =COUNTIF(H$2:H10,">0")/(COUNTIF(H$2:H10,"<0")+COUNTIF(H$2:H10,">0")) -> #DIV/0! | AG10: =IF(ISERROR(SUMIF($G$1:$G10,">0")/-SUMIF($G$1:$G10,"<0"))=FALSE,SUMIF($G$1:$G10,">0")/-SUMIF($G$1:$G10,"<0"),"") | AI10: =IF(SIGN($G10)=1,1,"") | AJ10: =IF(SIGN($G10)=-1,1,"") | AK10: =G10/H10 -> #DIV/0!
A11: =LEFT(B11,4) | L11: =VLOOKUP(WEEKDAY(I11),daymap,2,0) -> Saturday | M11: =VLOOKUP(WEEKDAY(J11),daymap,2,0) -> Saturday | N11: =YEAR(I11) -> 1900 | O11: =MONTH(I11) -> 1 | P11: =WEEKNUM(I11) -> 0 | Q11: =HOUR(I11) -> 0 | R11: =MINUTE(I11) -> 0 | S11: =YEAR(I11)&"/"&MONTH(I11)&"/"&DAY(I11) -> 1900/1/0 | T11: =2*E11*C11*(IF(AT28<level1,comm1,IF(AT28<level2,comm2,IF(AT28<level3,comm3,IF(AT28<level4,comm4,IF(AT28<level5,comm5,IF(AT28<level6,comm6,IF(AT28<level7,comm7,IF(AT28<level8,comm8,IF(AT28<level9,comm9,0)))))))))) -> 0 | U11: =U10+G11-T11 -> 10000 | V11: =IF(ROW()=2,IF(SIGN($G10)<>SIGN($G11),$G11,$G10+$G11),IF(SIGN($G10)<>SIGN($G11),$G11,$G11+$V10)) -> 0 | W11: =IF(SIGN(H11)=1,IF(AND(H10>0,H11>0),1+W10,IF(H11>0,1,0)),IF(AND(H10<0,H11<0),W10-1,IF(H11<0,-1,0))) -> 0 | X11: =IF(J11="","",ROUNDDOWN(($J11-$I11)*24,0)) | Y11: =IF(J11="","",IF($H11>0,ROUNDDOWN(($J11-$I11)*24,0),"")) | Z11: =IF(J11="","",IF($H11<0,($J11-$I11)*24,"")) | AA11: =ROUNDDOWN((I11-J10)*24*60,0) -> 0 | AB11: =COUNTIF(H$2:H11,">0")/(COUNTIF(H$2:H11,"<0")+COUNTIF(H$2:H11,">0")) -> #DIV/0! | AG11: =IF(ISERROR(SUMIF($G$1:$G11,">0")/-SUMIF($G$1:$G11,"<0"))=FALSE,SUMIF($G$1:$G11,">0")/-SUMIF($G$1:$G11,"<0"),"") | AI11: =IF(SIGN($G11)=1,1,"") | AJ11: =IF(SIGN($G11)=-1,1,"") | AK11: =G11/H11 -> #DIV/0!
A12: =LEFT(B12,4) | L12: =VLOOKUP(WEEKDAY(I12),daymap,2,0) -> Saturday | M12: =VLOOKUP(WEEKDAY(J12),daymap,2,0) -> Saturday | N12: =YEAR(I12) -> 1900 | O12: =MONTH(I12) -> 1 | P12: =WEEKNUM(I12) -> 0 | Q12: =HOUR(I12) -> 0 | R12: =MINUTE(I12) -> 0 | S12: =YEAR(I12)&"/"&MONTH(I12)&"/"&DAY(I12) -> 1900/1/0 | T12: =2*E12*C12*(IF(AT29<level1,comm1,IF(AT29<level2,comm2,IF(AT29<level3,comm3,IF(AT29<level4,comm4,IF(AT29<level5,comm5,IF(AT29<level6,comm6,IF(AT29<level7,comm7,IF(AT29<level8,comm8,IF(AT29<level9,comm9,0)))))))))) -> 0 | U12: =U11+G12-T12 -> 10000 | V12: =IF(ROW()=2,IF(SIGN($G11)<>SIGN($G12),$G12,$G11+$G12),IF(SIGN($G11)<>SIGN($G12),$G12,$G12+$V11)) -> 0 | W12: =IF(SIGN(H12)=1,IF(AND(H11>0,H12>0),1+W11,IF(H12>0,1,0)),IF(AND(H11<0,H12<0),W11-1,IF(H12<0,-1,0))) -> 0 | X12: =IF(J12="","",ROUNDDOWN(($J12-$I12)*24,0)) | Y12: =IF(J12="","",IF($H12>0,ROUNDDOWN(($J12-$I12)*24,0),"")) | Z12: =IF(J12="","",IF($H12<0,($J12-$I12)*24,"")) | AA12: =ROUNDDOWN((I12-J11)*24*60,0) -> 0 | AB12: =COUNTIF(H$2:H12,">0")/(COUNTIF(H$2:H12,"<0")+COUNTIF(H$2:H12,">0")) -> #DIV/0! | AG12: =IF(ISERROR(SUMIF($G$1:$G12,">0")/-SUMIF($G$1:$G12,"<0"))=FALSE,SUMIF($G$1:$G12,">0")/-SUMIF($G$1:$G12,"<0"),"") | AI12: =IF(SIGN($G12)=1,1,"") | AJ12: =IF(SIGN($G12)=-1,1,"") | AK12: =G12/H12 -> #DIV/0!
A13: =LEFT(B13,4) | L13: =VLOOKUP(WEEKDAY(I13),daymap,2,0) -> Saturday | M13: =VLOOKUP(WEEKDAY(J13),daymap,2,0) -> Saturday | N13: =YEAR(I13) -> 1900 | O13: =MONTH(I13) -> 1 | P13: =WEEKNUM(I13) -> 0 | Q13: =HOUR(I13) -> 0 | R13: =MINUTE(I13) -> 0 | S13: =YEAR(I13)&"/"&MONTH(I13)&"/"&DAY(I13) -> 1900/1/0 | T13: =2*E13*C13*(IF(AT30<level1,comm1,IF(AT30<level2,comm2,IF(AT30<level3,comm3,IF(AT30<level4,comm4,IF(AT30<level5,comm5,IF(AT30<level6,comm6,IF(AT30<level7,comm7,IF(AT30<level8,comm8,IF(AT30<level9,comm9,0)))))))))) -> 0 | U13: =U12+G13-T13 -> 10000 | V13: =IF(ROW()=2,IF(SIGN($G12)<>SIGN($G13),$G13,$G12+$G13),IF(SIGN($G12)<>SIGN($G13),$G13,$G13+$V12)) -> 0 | W13: =IF(SIGN(H13)=1,IF(AND(H12>0,H13>0),1+W12,IF(H13>0,1,0)),IF(AND(H12<0,H13<0),W12-1,IF(H13<0,-1,0))) -> 0 | X13: =IF(J13="","",ROUNDDOWN(($J13-$I13)*24,0)) | Y13: =IF(J13="","",IF($H13>0,ROUNDDOWN(($J13-$I13)*24,0),"")) | Z13: =IF(J13="","",IF($H13<0,($J13-$I13)*24,"")) | AA13: =ROUNDDOWN((I13-J12)*24*60,0) -> 0 | AB13: =COUNTIF(H$2:H13,">0")/(COUNTIF(H$2:H13,"<0")+COUNTIF(H$2:H13,">0")) -> #DIV/0! | AG13: =IF(ISERROR(SUMIF($G$1:$G13,">0")/-SUMIF($G$1:$G13,"<0"))=FALSE,SUMIF($G$1:$G13,">0")/-SUMIF($G$1:$G13,"<0"),"") | AI13: =IF(SIGN($G13)=1,1,"") | AJ13: =IF(SIGN($G13)=-1,1,"") | AK13: =G13/H13 -> #DIV/0!
A14: =LEFT(B14,4) | L14: =VLOOKUP(WEEKDAY(I14),daymap,2,0) -> Saturday | M14: =VLOOKUP(WEEKDAY(J14),daymap,2,0) -> Saturday | N14: =YEAR(I14) -> 1900 | O14: =MONTH(I14) -> 1 | P14: =WEEKNUM(I14) -> 0 | Q14: =HOUR(I14) -> 0 | R14: =MINUTE(I14) -> 0 | S14: =YEAR(I14)&"/"&MONTH(I14)&"/"&DAY(I14) -> 1900/1/0 | T14: =2*E14*C14*(IF(AT31<level1,comm1,IF(AT31<level2,comm2,IF(AT31<level3,comm3,IF(AT31<level4,comm4,IF(AT31<level5,comm5,IF(AT31<level6,comm6,IF(AT31<level7,comm7,IF(AT31<level8,comm8,IF(AT31<level9,comm9,0)))))))))) -> 0 | U14: =U13+G14-T14 -> 10000 | V14: =IF(ROW()=2,IF(SIGN($G13)<>SIGN($G14),$G14,$G13+$G14),IF(SIGN($G13)<>SIGN($G14),$G14,$G14+$V13)) -> 0 | W14: =IF(SIGN(H14)=1,IF(AND(H13>0,H14>0),1+W13,IF(H14>0,1,0)),IF(AND(H13<0,H14<0),W13-1,IF(H14<0,-1,0))) -> 0 | X14: =IF(J14="","",ROUNDDOWN(($J14-$I14)*24,0)) | Y14: =IF(J14="","",IF($H14>0,ROUNDDOWN(($J14-$I14)*24,0),"")) | Z14: =IF(J14="","",IF($H14<0,($J14-$I14)*24,"")) | AA14: =ROUNDDOWN((I14-J13)*24*60,0) -> 0 | AB14: =COUNTIF(H$2:H14,">0")/(COUNTIF(H$2:H14,"<0")+COUNTIF(H$2:H14,">0")) -> #DIV/0! | AG14: =IF(ISERROR(SUMIF($G$1:$G14,">0")/-SUMIF($G$1:$G14,"<0"))=FALSE,SUMIF($G$1:$G14,">0")/-SUMIF($G$1:$G14,"<0"),"") | AI14: =IF(SIGN($G14)=1,1,"") | AJ14: =IF(SIGN($G14)=-1,1,"") | AK14: =G14/H14 -> #DIV/0!
A15: =LEFT(B15,4) | L15: =VLOOKUP(WEEKDAY(I15),daymap,2,0) -> Saturday | M15: =VLOOKUP(WEEKDAY(J15),daymap,2,0) -> Saturday | N15: =YEAR(I15) -> 1900 | O15: =MONTH(I15) -> 1 | P15: =WEEKNUM(I15) -> 0 | Q15: =HOUR(I15) -> 0 | R15: =MINUTE(I15) -> 0 | S15: =YEAR(I15)&"/"&MONTH(I15)&"/"&DAY(I15) -> 1900/1/0 | T15: =2*E15*C15*(IF(AT32<level1,comm1,IF(AT32<level2,comm2,IF(AT32<level3,comm3,IF(AT32<level4,comm4,IF(AT32<level5,comm5,IF(AT32<level6,comm6,IF(AT32<level7,comm7,IF(AT32<level8,comm8,IF(AT32<level9,comm9,0)))))))))) -> 0 | U15: =U14+G15-T15 -> 10000 | V15: =IF(ROW()=2,IF(SIGN($G14)<>SIGN($G15),$G15,$G14+$G15),IF(SIGN($G14)<>SIGN($G15),$G15,$G15+$V14)) -> 0 | W15: =IF(SIGN(H15)=1,IF(AND(H14>0,H15>0),1+W14,IF(H15>0,1,0)),IF(AND(H14<0,H15<0),W14-1,IF(H15<0,-1,0))) -> 0 | X15: =IF(J15="","",ROUNDDOWN(($J15-$I15)*24,0)) | Y15: =IF(J15="","",IF($H15>0,ROUNDDOWN(($J15-$I15)*24,0),"")) | Z15: =IF(J15="","",IF($H15<0,($J15-$I15)*24,"")) | AA15: =ROUNDDOWN((I15-J14)*24*60,0) -> 0 | AB15: =COUNTIF(H$2:H15,">0")/(COUNTIF(H$2:H15,"<0")+COUNTIF(H$2:H15,">0")) -> #DIV/0! | AG15: =IF(ISERROR(SUMIF($G$1:$G15,">0")/-SUMIF($G$1:$G15,"<0"))=FALSE,SUMIF($G$1:$G15,">0")/-SUMIF($G$1:$G15,"<0"),"") | AI15: =IF(SIGN($G15)=1,1,"") | AJ15: =IF(SIGN($G15)=-1,1,"") | AK15: =G15/H15 -> #DIV/0!
... A21: =LEFT(B21,4) | L21: =VLOOKUP(WEEKDAY(I21),daymap,2,0) -> Saturday | M21: =VLOOKUP(WEEKDAY(J21),daymap,2,0) -> Saturday | N21: =YEAR(I21) -> 1900 | O21: =MONTH(I21) -> 1 | P21: =WEEKNUM(I21) -> 0 | Q21: =HOUR(I21) -> 0 | R21: =MINUTE(I21) -> 0 | S21: =YEAR(I21)&"/"&MONTH(I21)&"/"&DAY(I21) -> 1900/1/0 | T21: =2*E21*C21*(IF(AT38<level1,comm1,IF(AT38<level2,comm2,IF(AT38<level3,comm3,IF(AT38<level4,comm4,IF(AT38<level5,comm5,IF(AT38<level6,comm6,IF(AT38<level7,comm7,IF(AT38<level8,comm8,IF(AT38<level9,comm9,0)))))))))) -> 0 | U21: =U20+G21-T21 -> 10000 | V21: =IF(ROW()=2,IF(SIGN($G20)<>SIGN($G21),$G21,$G20+$G21),IF(SIGN($G20)<>SIGN($G21),$G21,$G21+$V20)) -> 0 | W21: =IF(SIGN(H21)=1,IF(AND(H20>0,H21>0),1+W20,IF(H21>0,1,0)),IF(AND(H20<0,H21<0),W20-1,IF(H21<0,-1,0))) -> 0 | X21: =IF(J21="","",ROUNDDOWN(($J21-$I21)*24,0)) | Y21: =IF(J21="","",IF($H21>0,ROUNDDOWN(($J21-$I21)*24,0),"")) | Z21: =IF(J21="","",IF($H21<0,($J21-$I21)*24,"")) | AA21: =ROUNDDOWN((I21-J20)*24*60,0) -> 0 | AB21: =COUNTIF(H$2:H21,">0")/(COUNTIF(H$2:H21,"<0")+COUNTIF(H$2:H21,">0")) -> #DIV/0! | AG21: =IF(ISERROR(SUMIF($G$1:$G21,">0")/-SUMIF($G$1:$G21,"<0"))=FALSE,SUMIF($G$1:$G21,">0")/-SUMIF($G$1:$G21,"<0"),"") | AI21: =IF(SIGN($G21)=1,1,"") | AJ21: =IF(SIGN($G21)=-1,1,"") | AK21: =G21/H21 -> #DIV/0!
A22: =LEFT(B22,4) | L22: =VLOOKUP(WEEKDAY(I22),daymap,2,0) -> Saturday | M22: =VLOOKUP(WEEKDAY(J22),daymap,2,0) -> Saturday | N22: =YEAR(I22) -> 1900 | O22: =MONTH(I22) -> 1 | P22: =WEEKNUM(I22) -> 0 | Q22: =HOUR(I22) -> 0 | R22: =MINUTE(I22) -> 0 | S22: =YEAR(I22)&"/"&MONTH(I22)&"/"&DAY(I22) -> 1900/1/0 | T22: =2*E22*C22*(IF(AT39<level1,comm1,IF(AT39<level2,comm2,IF(AT39<level3,comm3,IF(AT39<level4,comm4,IF(AT39<level5,comm5,IF(AT39<level6,comm6,IF(AT39<level7,comm7,IF(AT39<level8,comm8,IF(AT39<level9,comm9,0)))))))))) -> 0 | U22: =U21+G22-T22 -> 10000 | V22: =IF(ROW()=2,IF(SIGN($G21)<>SIGN($G22),$G22,$G21+$G22),IF(SIGN($G21)<>SIGN($G22),$G22,$G22+$V21)) -> 0 | W22: =IF(SIGN(H22)=1,IF(AND(H21>0,H22>0),1+W21,IF(H22>0,1,0)),IF(AND(H21<0,H22<0),W21-1,IF(H22<0,-1,0))) -> 0 | X22: =IF(J22="","",ROUNDDOWN(($J22-$I22)*24,0)) | Y22: =IF(J22="","",IF($H22>0,ROUNDDOWN(($J22-$I22)*24,0),"")) | Z22: =IF(J22="","",IF($H22<0,($J22-$I22)*24,"")) | AA22: =ROUNDDOWN((I22-J21)*24*60,0) -> 0 | AB22: =COUNTIF(H$2:H22,">0")/(COUNTIF(H$2:H22,"<0")+COUNTIF(H$2:H22,">0")) -> #DIV/0! | AC22: =ROUND(COUNTIF(H2:H21,">0")/(COUNTIF(H2:H21,"<0")+COUNTIF(H2:H21,">0")),2) -> #DIV/0! | AG22: =IF(ISERROR(SUMIF($G$1:$G22,">0")/-SUMIF($G$1:$G22,"<0"))=FALSE,SUMIF($G$1:$G22,">0")/-SUMIF($G$1:$G22,"<0"),"") | AI22: =IF(SIGN($G22)=1,1,"") | AJ22: =IF(SIGN($G22)=-1,1,"") | AK22: =G22/H22 -> #DIV/0!
A23: =LEFT(B23,4) | L23: =VLOOKUP(WEEKDAY(I23),daymap,2,0) -> Saturday | M23: =VLOOKUP(WEEKDAY(J23),daymap,2,0) -> Saturday | N23: =YEAR(I23) -> 1900 | O23: =MONTH(I23) -> 1 | P23: =WEEKNUM(I23) -> 0 | Q23: =HOUR(I23) -> 0 | R23: =MINUTE(I23) -> 0 | S23: =YEAR(I23)&"/"&MONTH(I23)&"/"&DAY(I23) -> 1900/1/0 | T23: =2*E23*C23*(IF(AT40<level1,comm1,IF(AT40<level2,comm2,IF(AT40<level3,comm3,IF(AT40<level4,comm4,IF(AT40<level5,comm5,IF(AT40<level6,comm6,IF(AT40<level7,comm7,IF(AT40<level8,comm8,IF(AT40<level9,comm9,0)))))))))) -> 0 | U23: =U22+G23-T23 -> 10000 | V23: =IF(ROW()=2,IF(SIGN($G22)<>SIGN($G23),$G23,$G22+$G23),IF(SIGN($G22)<>SIGN($G23),$G23,$G23+$V22)) -> 0 | W23: =IF(SIGN(H23)=1,IF(AND(H22>0,H23>0),1+W22,IF(H23>0,1,0)),IF(AND(H22<0,H23<0),W22-1,IF(H23<0,-1,0))) -> 0 | X23: =IF(J23="","",ROUNDDOWN(($J23-$I23)*24,0)) | Y23: =IF(J23="","",IF($H23>0,ROUNDDOWN(($J23-$I23)*24,0),"")) | Z23: =IF(J23="","",IF($H23<0,($J23-$I23)*24,"")) | AA23: =ROUNDDOWN((I23-J22)*24*60,0) -> 0 | AB23: =COUNTIF(H$2:H23,">0")/(COUNTIF(H$2:H23,"<0")+COUNTIF(H$2:H23,">0")) -> #DIV/0! | AC23: =ROUND(COUNTIF(H3:H22,">0")/(COUNTIF(H3:H22,"<0")+COUNTIF(H3:H22,">0")),2) -> #DIV/0! | AD23: =IF(AC22<$AM$38,"exclude","") -> #DIV/0! | AG23: =IF(ISERROR(SUMIF($G$1:$G23,">0")/-SUMIF($G$1:$G23,"<0"))=FALSE,SUMIF($G$1:$G23,">0")/-SUMIF($G$1:$G23,"<0"),"") | AI23: =IF(SIGN($G23)=1,1,"") | AJ23: =IF(SIGN($G23)=-1,1,"") | AK23: =G23/H23 -> #DIV/0!
A24: =LEFT(B24,4) | L24: =VLOOKUP(WEEKDAY(I24),daymap,2,0) -> Saturday | M24: =VLOOKUP(WEEKDAY(J24),daymap,2,0) -> Saturday | N24: =YEAR(I24) -> 1900 | O24: =MONTH(I24) -> 1 | P24: =WEEKNUM(I24) -> 0 | Q24: =HOUR(I24) -> 0 | R24: =MINUTE(I24) -> 0 | S24: =YEAR(I24)&"/"&MONTH(I24)&"/"&DAY(I24) -> 1900/1/0 | T24: =2*E24*C24*(IF(AT41<level1,comm1,IF(AT41<level2,comm2,IF(AT41<level3,comm3,IF(AT41<level4,comm4,IF(AT41<level5,comm5,IF(AT41<level6,comm6,IF(AT41<level7,comm7,IF(AT41<level8,comm8,IF(AT41<level9,comm9,0)))))))))) -> 0 | U24: =U23+G24-T24 -> 10000 | V24: =IF(ROW()=2,IF(SIGN($G23)<>SIGN($G24),$G24,$G23+$G24),IF(SIGN($G23)<>SIGN($G24),$G24,$G24+$V23)) -> 0 | W24: =IF(SIGN(H24)=1,IF(AND(H23>0,H24>0),1+W23,IF(H24>0,1,0)),IF(AND(H23<0,H24<0),W23-1,IF(H24<0,-1,0))) -> 0 | X24: =IF(J24="","",ROUNDDOWN(($J24-$I24)*24,0)) | Y24: =IF(J24="","",IF($H24>0,ROUNDDOWN(($J24-$I24)*24,0),"")) | Z24: =IF(J24="","",IF($H24<0,($J24-$I24)*24,"")) | AA24: =ROUNDDOWN((I24-J23)*24*60,0) -> 0 | AB24: =COUNTIF(H$2:H24,">0")/(COUNTIF(H$2:H24,"<0")+COUNTIF(H$2:H24,">0")) -> #DIV/0! | AC24: =ROUND(COUNTIF(H4:H23,">0")/(COUNTIF(H4:H23,"<0")+COUNTIF(H4:H23,">0")),2) -> #DIV/0! | AD24: =IF(AC23<$AM$38,"exclude","") -> #DIV/0! | AG24: =IF(ISERROR(SUMIF($G$1:$G24,">0")/-SUMIF($G$1:$G24,"<0"))=FALSE,SUMIF($G$1:$G24,">0")/-SUMIF($G$1:$G24,"<0"),"") | AI24: =IF(SIGN($G24)=1,1,"") | AJ24: =IF(SIGN($G24)=-1,1,"") | AK24: =G24/H24 -> #DIV/0!
A25: =LEFT(B25,4) | L25: =VLOOKUP(WEEKDAY(I25),daymap,2,0) -> Saturday | M25: =VLOOKUP(WEEKDAY(J25),daymap,2,0) -> Saturday | N25: =YEAR(I25) -> 1900 | O25: =MONTH(I25) -> 1 | P25: =WEEKNUM(I25) -> 0 | Q25: =HOUR(I25) -> 0 | R25: =MINUTE(I25) -> 0 | S25: =YEAR(I25)&"/"&MONTH(I25)&"/"&DAY(I25) -> 1900/1/0 | T25: =2*E25*C25*(IF(AT42<level1,comm1,IF(AT42<level2,comm2,IF(AT42<level3,comm3,IF(AT42<level4,comm4,IF(AT42<level5,comm5,IF(AT42<level6,comm6,IF(AT42<level7,comm7,IF(AT42<level8,comm8,IF(AT42<level9,comm9,0)))))))))) -> 0 | U25: =U24+G25-T25 -> 10000 | V25: =IF(ROW()=2,IF(SIGN($G24)<>SIGN($G25),$G25,$G24+$G25),IF(SIGN($G24)<>SIGN($G25),$G25,$G25+$V24)) -> 0 | W25: =IF(SIGN(H25)=1,IF(AND(H24>0,H25>0),1+W24,IF(H25>0,1,0)),IF(AND(H24<0,H25<0),W24-1,IF(H25<0,-1,0))) -> 0 | X25: =IF(J25="","",ROUNDDOWN(($J25-$I25)*24,0)) | Y25: =IF(J25="","",IF($H25>0,ROUNDDOWN(($J25-$I25)*24,0),"")) | Z25: =IF(J25="","",IF($H25<0,($J25-$I25)*24,"")) | AA25: =ROUNDDOWN((I25-J24)*24*60,0) -> 0 | AB25: =COUNTIF(H$2:H25,">0")/(COUNTIF(H$2:H25,"<0")+COUNTIF(H$2:H25,">0")) -> #DIV/0! | AC25: =ROUND(COUNTIF(H5:H24,">0")/(COUNTIF(H5:H24,"<0")+COUNTIF(H5:H24,">0")),2) -> #DIV/0! | AD25: =IF(AC24<$AM$38,"exclude","") -> #DIV/0! | AG25: =IF(ISERROR(SUMIF($G$1:$G25,">0")/-SUMIF($G$1:$G25,"<0"))=FALSE,SUMIF($G$1:$G25,">0")/-SUMIF($G$1:$G25,"<0"),"") | AI25: =IF(SIGN($G25)=1,1,"") | AJ25: =IF(SIGN($G25)=-1,1,"") | AK25: =G25/H25 -> #DIV/0!
A26: =LEFT(B26,4) | L26: =VLOOKUP(WEEKDAY(I26),daymap,2,0) -> Saturday | M26: =VLOOKUP(WEEKDAY(J26),daymap,2,0) -> Saturday | N26: =YEAR(I26) -> 1900 | O26: =MONTH(I26) -> 1 | P26: =WEEKNUM(I26) -> 0 | Q26: =HOUR(I26) -> 0 | R26: =MINUTE(I26) -> 0 | S26: =YEAR(I26)&"/"&MONTH(I26)&"/"&DAY(I26) -> 1900/1/0 | T26: =2*E26*C26*(IF(AT43<level1,comm1,IF(AT43<level2,comm2,IF(AT43<level3,comm3,IF(AT43<level4,comm4,IF(AT43<level5,comm5,IF(AT43<level6,comm6,IF(AT43<level7,comm7,IF(AT43<level8,comm8,IF(AT43<level9,comm9,0)))))))))) -> 0 | U26: =U25+G26-T26 -> 10000 | V26: =IF(ROW()=2,IF(SIGN($G25)<>SIGN($G26),$G26,$G25+$G26),IF(SIGN($G25)<>SIGN($G26),$G26,$G26+$V25)) -> 0 | W26: =IF(SIGN(H26)=1,IF(AND(H25>0,H26>0),1+W25,IF(H26>0,1,0)),IF(AND(H25<0,H26<0),W25-1,IF(H26<0,-1,0))) -> 0 | X26: =IF(J26="","",ROUNDDOWN(($J26-$I26)*24,0)) | Y26: =IF(J26="","",IF($H26>0,ROUNDDOWN(($J26-$I26)*24,0),"")) | Z26: =IF(J26="","",IF($H26<0,($J26-$I26)*24,"")) | AA26: =ROUNDDOWN((I26-J25)*24*60,0) -> 0 | AB26: =COUNTIF(H$2:H26,">0")/(COUNTIF(H$2:H26,"<0")+COUNTIF(H$2:H26,">0")) -> #DIV/0! | AC26: =ROUND(COUNTIF(H6:H25,">0")/(COUNTIF(H6:H25,"<0")+COUNTIF(H6:H25,">0")),2) -> #DIV/0! | AD26: =IF(AC25<$AM$38,"exclude","") -> #DIV/0! | AG26: =IF(ISERROR(SUMIF($G$1:$G26,">0")/-SUMIF($G$1:$G26,"<0"))=FALSE,SUMIF($G$1:$G26,">0")/-SUMIF($G$1:$G26,"<0"),"") | AI26: =IF(SIGN($G26)=1,1,"") | AJ26: =IF(SIGN($G26)=-1,1,"") | AK26: =G26/H26 -> #DIV/0!
A27: =LEFT(B27,4) | L27: =VLOOKUP(WEEKDAY(I27),daymap,2,0) -> Saturday | M27: =VLOOKUP(WEEKDAY(J27),daymap,2,0) -> Saturday | N27: =YEAR(I27) -> 1900 | O27: =MONTH(I27) -> 1 | P27: =WEEKNUM(I27) -> 0 | Q27: =HOUR(I27) -> 0 | R27: =MINUTE(I27) -> 0 | S27: =YEAR(I27)&"/"&MONTH(I27)&"/"&DAY(I27) -> 1900/1/0 | T27: =2*E27*C27*(IF(AT44<level1,comm1,IF(AT44<level2,comm2,IF(AT44<level3,comm3,IF(AT44<level4,comm4,IF(AT44<level5,comm5,IF(AT44<level6,comm6,IF(AT44<level7,comm7,IF(AT44<level8,comm8,IF(AT44<level9,comm9,0)))))))))) -> 0 | U27: =U26+G27-T27 -> 10000 | V27: =IF(ROW()=2,IF(SIGN($G26)<>SIGN($G27),$G27,$G26+$G27),IF(SIGN($G26)<>SIGN($G27),$G27,$G27+$V26)) -> 0 | W27: =IF(SIGN(H27)=1,IF(AND(H26>0,H27>0),1+W26,IF(H27>0,1,0)),IF(AND(H26<0,H27<0),W26-1,IF(H27<0,-1,0))) -> 0 | X27: =IF(J27="","",ROUNDDOWN(($J27-$I27)*24,0)) | Y27: =IF(J27="","",IF($H27>0,ROUNDDOWN(($J27-$I27)*24,0),"")) | Z27: =IF(J27="","",IF($H27<0,($J27-$I27)*24,"")) | AA27: =ROUNDDOWN((I27-J26)*24*60,0) -> 0 | AB27: =COUNTIF(H$2:H27,">0")/(COUNTIF(H$2:H27,"<0")+COUNTIF(H$2:H27,">0")) -> #DIV/0! | AC27: =ROUND(COUNTIF(H7:H26,">0")/(COUNTIF(H7:H26,"<0")+COUNTIF(H7:H26,">0")),2) -> #DIV/0! | AD27: =IF(AC26<$AM$38,"exclude","") -> #DIV/0! | AG27: =IF(ISERROR(SUMIF($G$1:$G27,">0")/-SUMIF($G$1:$G27,"<0"))=FALSE,SUMIF($G$1:$G27,">0")/-SUMIF($G$1:$G27,"<0"),"") | AI27: =IF(SIGN($G27)=1,1,"") | AJ27: =IF(SIGN($G27)=-1,1,"") | AK27: =G27/H27 -> #DIV/0!
A28: =LEFT(B28,4) | L28: =VLOOKUP(WEEKDAY(I28),daymap,2,0) -> Saturday | M28: =VLOOKUP(WEEKDAY(J28),daymap,2,0) -> Saturday | N28: =YEAR(I28) -> 1900 | O28: =MONTH(I28) -> 1 | P28: =WEEKNUM(I28) -> 0 | Q28: =HOUR(I28) -> 0 | R28: =MINUTE(I28) -> 0 | S28: =YEAR(I28)&"/"&MONTH(I28)&"/"&DAY(I28) -> 1900/1/0 | T28: =2*E28*C28*(IF(AT45<level1,comm1,IF(AT45<level2,comm2,IF(AT45<level3,comm3,IF(AT45<level4,comm4,IF(AT45<level5,comm5,IF(AT45<level6,comm6,IF(AT45<level7,comm7,IF(AT45<level8,comm8,IF(AT45<level9,comm9,0)))))))))) -> 0 | U28: =U27+G28-T28 -> 10000 | V28: =IF(ROW()=2,IF(SIGN($G27)<>SIGN($G28),$G28,$G27+$G28),IF(SIGN($G27)<>SIGN($G28),$G28,$G28+$V27)) -> 0 | W28: =IF(SIGN(H28)=1,IF(AND(H27>0,H28>0),1+W27,IF(H28>0,1,0)),IF(AND(H27<0,H28<0),W27-1,IF(H28<0,-1,0))) -> 0 | X28: =IF(J28="","",ROUNDDOWN(($J28-$I28)*24,0)) | Y28: =IF(J28="","",IF($H28>0,ROUNDDOWN(($J28-$I28)*24,0),"")) | Z28: =IF(J28="","",IF($H28<0,($J28-$I28)*24,"")) | AA28: =ROUNDDOWN((I28-J27)*24*60,0) -> 0 | AB28: =COUNTIF(H$2:H28,">0")/(COUNTIF(H$2:H28,"<0")+COUNTIF(H$2:H28,">0")) -> #DIV/0! | AC28: =ROUND(COUNTIF(H8:H27,">0")/(COUNTIF(H8:H27,"<0")+COUNTIF(H8:H27,">0")),2) -> #DIV/0! | AD28: =IF(AC27<$AM$38,"exclude","") -> #DIV/0! | AG28: =IF(ISERROR(SUMIF($G$1:$G28,">0")/-SUMIF($G$1:$G28,"<0"))=FALSE,SUMIF($G$1:$G28,">0")/-SUMIF($G$1:$G28,"<0"),"") | AI28: =IF(SIGN($G28)=1,1,"") | AJ28: =IF(SIGN($G28)=-1,1,"") | AK28: =G28/H28 -> #DIV/0!
A29: =LEFT(B29,4) | L29: =VLOOKUP(WEEKDAY(I29),daymap,2,0) -> Saturday | M29: =VLOOKUP(WEEKDAY(J29),daymap,2,0) -> Saturday | N29: =YEAR(I29) -> 1900 | O29: =MONTH(I29) -> 1 | P29: =WEEKNUM(I29) -> 0 | Q29: =HOUR(I29) -> 0 | R29: =MINUTE(I29) -> 0 | S29: =YEAR(I29)&"/"&MONTH(I29)&"/"&DAY(I29) -> 1900/1/0 | T29: =2*E29*C29*(IF(AT46<level1,comm1,IF(AT46<level2,comm2,IF(AT46<level3,comm3,IF(AT46<level4,comm4,IF(AT46<level5,comm5,IF(AT46<level6,comm6,IF(AT46<level7,comm7,IF(AT46<level8,comm8,IF(AT46<level9,comm9,0)))))))))) -> 0 | U29: =U28+G29-T29 -> 10000 | V29: =IF(ROW()=2,IF(SIGN($G28)<>SIGN($G29),$G29,$G28+$G29),IF(SIGN($G28)<>SIGN($G29),$G29,$G29+$V28)) -> 0 | W29: =IF(SIGN(H29)=1,IF(AND(H28>0,H29>0),1+W28,IF(H29>0,1,0)),IF(AND(H28<0,H29<0),W28-1,IF(H29<0,-1,0))) -> 0 | X29: =IF(J29="","",ROUNDDOWN(($J29-$I29)*24,0)) | Y29: =IF(J29="","",IF($H29>0,ROUNDDOWN(($J29-$I29)*24,0),"")) | Z29: =IF(J29="","",IF($H29<0,($J29-$I29)*24,"")) | AA29: =ROUNDDOWN((I29-J28)*24*60,0) -> 0 | AB29: =COUNTIF(H$2:H29,">0")/(COUNTIF(H$2:H29,"<0")+COUNTIF(H$2:H29,">0")) -> #DIV/0! | AC29: =ROUND(COUNTIF(H9:H28,">0")/(COUNTIF(H9:H28,"<0")+COUNTIF(H9:H28,">0")),2) -> #DIV/0! | AD29: =IF(AC28<$AM$38,"exclude","") -> #DIV/0! | AG29: =IF(ISERROR(SUMIF($G$1:$G29,">0")/-SUMIF($G$1:$G29,"<0"))=FALSE,SUMIF($G$1:$G29,">0")/-SUMIF($G$1:$G29,"<0"),"") | AI29: =IF(SIGN($G29)=1,1,"") | AJ29: =IF(SIGN($G29)=-1,1,"") | AK29: =G29/H29 -> #DIV/0!
A30: =LEFT(B30,4) | L30: =VLOOKUP(WEEKDAY(I30),daymap,2,0) -> Saturday | M30: =VLOOKUP(WEEKDAY(J30),daymap,2,0) -> Saturday | N30: =YEAR(I30) -> 1900 | O30: =MONTH(I30) -> 1 | P30: =WEEKNUM(I30) -> 0 | Q30: =HOUR(I30) -> 0 | R30: =MINUTE(I30) -> 0 | S30: =YEAR(I30)&"/"&MONTH(I30)&"/"&DAY(I30) -> 1900/1/0 | T30: =2*E30*C30*(IF(AT47<level1,comm1,IF(AT47<level2,comm2,IF(AT47<level3,comm3,IF(AT47<level4,comm4,IF(AT47<level5,comm5,IF(AT47<level6,comm6,IF(AT47<level7,comm7,IF(AT47<level8,comm8,IF(AT47<level9,comm9,0)))))))))) -> 0 | U30: =U29+G30-T30 -> 10000 | V30: =IF(ROW()=2,IF(SIGN($G29)<>SIGN($G30),$G30,$G29+$G30),IF(SIGN($G29)<>SIGN($G30),$G30,$G30+$V29)) -> 0 | W30: =IF(SIGN(H30)=1,IF(AND(H29>0,H30>0),1+W29,IF(H30>0,1,0)),IF(AND(H29<0,H30<0),W29-1,IF(H30<0,-1,0))) -> 0 | X30: =IF(J30="","",ROUNDDOWN(($J30-$I30)*24,0)) | Y30: =IF(J30="","",IF($H30>0,ROUNDDOWN(($J30-$I30)*24,0),"")) | Z30: =IF(J30="","",IF($H30<0,($J30-$I30)*24,"")) | AA30: =ROUNDDOWN((I30-J29)*24*60,0) -> 0 | AB30: =COUNTIF(H$2:H30,">0")/(COUNTIF(H$2:H30,"<0")+COUNTIF(H$2:H30,">0")) -> #DIV/0! | AC30: =ROUND(COUNTIF(H10:H29,">0")/(COUNTIF(H10:H29,"<0")+COUNTIF(H10:H29,">0")),2) -> #DIV/0! | AD30: =IF(AC29<$AM$38,"exclude","") -> #DIV/0! | AG30: =IF(ISERROR(SUMIF($G$1:$G30,">0")/-SUMIF($G$1:$G30,"<0"))=FALSE,SUMIF($G$1:$G30,">0")/-SUMIF($G$1:$G30,"<0"),"") | AI30: =IF(SIGN($G30)=1,1,"") | AJ30: =IF(SIGN($G30)=-1,1,"") | AK30: =G30/H30 -> #DIV/0!
A31: =LEFT(B31,4) | L31: =VLOOKUP(WEEKDAY(I31),daymap,2,0) -> Saturday | M31: =VLOOKUP(WEEKDAY(J31),daymap,2,0) -> Saturday | N31: =YEAR(I31) -> 1900 | O31: =MONTH(I31) -> 1 | P31: =WEEKNUM(I31) -> 0 | Q31: =HOUR(I31) -> 0 | R31: =MINUTE(I31) -> 0 | S31: =YEAR(I31)&"/"&MONTH(I31)&"/"&DAY(I31) -> 1900/1/0 | T31: =2*E31*C31*(IF(AT48<level1,comm1,IF(AT48<level2,comm2,IF(AT48<level3,comm3,IF(AT48<level4,comm4,IF(AT48<level5,comm5,IF(AT48<level6,comm6,IF(AT48<level7,comm7,IF(AT48<level8,comm8,IF(AT48<level9,comm9,0)))))))))) -> 0 | U31: =U30+G31-T31 -> 10000 | V31: =IF(ROW()=2,IF(SIGN($G30)<>SIGN($G31),$G31,$G30+$G31),IF(SIGN($G30)<>SIGN($G31),$G31,$G31+$V30)) -> 0 | W31: =IF(SIGN(H31)=1,IF(AND(H30>0,H31>0),1+W30,IF(H31>0,1,0)),IF(AND(H30<0,H31<0),W30-1,IF(H31<0,-1,0))) -> 0 | X31: =IF(J31="","",ROUNDDOWN(($J31-$I31)*24,0)) | Y31: =IF(J31="","",IF($H31>0,ROUNDDOWN(($J31-$I31)*24,0),"")) | Z31: =IF(J31="","",IF($H31<0,($J31-$I31)*24,"")) | AA31: =ROUNDDOWN((I31-J30)*24*60,0) -> 0 | AB31: =COUNTIF(H$2:H31,">0")/(COUNTIF(H$2:H31,"<0")+COUNTIF(H$2:H31,">0")) -> #DIV/0! | AC31: =ROUND(COUNTIF(H11:H30,">0")/(COUNTIF(H11:H30,"<0")+COUNTIF(H11:H30,">0")),2) -> #DIV/0! | AD31: =IF(AC30<$AM$38,"exclude","") -> #DIV/0! | AE31: =COUNTIF($H1:$H31,">0")/(COUNTIF($H1:$H31,"<0")+COUNTIF($H1:$H31,">0")) -> #DIV/0! | AF31: =SUM($H1:$H31)/COUNT($H1:$H31) -> #DIV/0! | AG31: =IF(ISERROR(SUMIF($G$1:$G31,">0")/-SUMIF($G$1:$G31,"<0"))=FALSE,SUMIF($G$1:$G31,">0")/-SUMIF($G$1:$G31,"<0"),"") | AI31: =IF(SIGN($G31)=1,1,"") | AJ31: =IF(SIGN($G31)=-1,1,"") | AK31: =G31/H31 -> #DIV/0!
A32: =LEFT(B32,4) | L32: =VLOOKUP(WEEKDAY(I32),daymap,2,0) -> Saturday | M32: =VLOOKUP(WEEKDAY(J32),daymap,2,0) -> Saturday | N32: =YEAR(I32) -> 1900 | O32: =MONTH(I32) -> 1 | P32: =WEEKNUM(I32) -> 0 | Q32: =HOUR(I32) -> 0 | R32: =MINUTE(I32) -> 0 | S32: =YEAR(I32)&"/"&MONTH(I32)&"/"&DAY(I32) -> 1900/1/0 | T32: =2*E32*C32*(IF(AT49<level1,comm1,IF(AT49<level2,comm2,IF(AT49<level3,comm3,IF(AT49<level4,comm4,IF(AT49<level5,comm5,IF(AT49<level6,comm6,IF(AT49<level7,comm7,IF(AT49<level8,comm8,IF(AT49<level9,comm9,0)))))))))) -> 0 | U32: =U31+G32-T32 -> 10000 | V32: =IF(ROW()=2,IF(SIGN($G31)<>SIGN($G32),$G32,$G31+$G32),IF(SIGN($G31)<>SIGN($G32),$G32,$G32+$V31)) -> 0 | W32: =IF(SIGN(H32)=1,IF(AND(H31>0,H32>0),1+W31,IF(H32>0,1,0)),IF(AND(H31<0,H32<0),W31-1,IF(H32<0,-1,0))) -> 0 | X32: =IF(J32="","",ROUNDDOWN(($J32-$I32)*24,0)) | Y32: =IF(J32="","",IF($H32>0,ROUNDDOWN(($J32-$I32)*24,0),"")) | Z32: =IF(J32="","",IF($H32<0,($J32-$I32)*24,"")) | AA32: =ROUNDDOWN((I32-J31)*24*60,0) -> 0 | AB32: =COUNTIF(H$2:H32,">0")/(COUNTIF(H$2:H32,"<0")+COUNTIF(H$2:H32,">0")) -> #DIV/0! | AC32: =ROUND(COUNTIF(H12:H31,">0")/(COUNTIF(H12:H31,"<0")+COUNTIF(H12:H31,">0")),2) -> #DIV/0! | AD32: =IF(AC31<$AM$38,"exclude","") -> #DIV/0! | AE32: =COUNTIF($H2:$H32,">0")/(COUNTIF($H2:$H32,"<0")+COUNTIF($H2:$H32,">0")) -> #DIV/0! | AF32: =SUM($H2:$H32)/COUNT($H2:$H32) -> #DIV/0! | AG32: =IF(ISERROR(SUMIF($G$1:$G32,">0")/-SUMIF($G$1:$G32,"<0"))=FALSE,SUMIF($G$1:$G32,">0")/-SUMIF($G$1:$G32,"<0"),"") | AI32: =IF(SIGN($G32)=1,1,"") | AJ32: =IF(SIGN($G32)=-1,1,"") | AK32: =G32/H32 -> #DIV/0!
A33: =LEFT(B33,4) | L33: =VLOOKUP(WEEKDAY(I33),daymap,2,0) -> Saturday | M33: =VLOOKUP(WEEKDAY(J33),daymap,2,0) -> Saturday | N33: =YEAR(I33) -> 1900 | O33: =MONTH(I33) -> 1 | P33: =WEEKNUM(I33) -> 0 | Q33: =HOUR(I33) -> 0 | R33: =MINUTE(I33) -> 0 | S33: =YEAR(I33)&"/"&MONTH(I33)&"/"&DAY(I33) -> 1900/1/0 | T33: =2*E33*C33*(IF(AT50<level1,comm1,IF(AT50<level2,comm2,IF(AT50<level3,comm3,IF(AT50<level4,comm4,IF(AT50<level5,comm5,IF(AT50<level6,comm6,IF(AT50<level7,comm7,IF(AT50<level8,comm8,IF(AT50<level9,comm9,0)))))))))) -> 0 | U33: =U32+G33-T33 -> 10000 | V33: =IF(ROW()=2,IF(SIGN($G32)<>SIGN($G33),$G33,$G32+$G33),IF(SIGN($G32)<>SIGN($G33),$G33,$G33+$V32)) -> 0 | W33: =IF(SIGN(H33)=1,IF(AND(H32>0,H33>0),1+W32,IF(H33>0,1,0)),IF(AND(H32<0,H33<0),W32-1,IF(H33<0,-1,0))) -> 0 | X33: =IF(J33="","",ROUNDDOWN(($J33-$I33)*24,0)) | Y33: =IF(J33="","",IF($H33>0,ROUNDDOWN(($J33-$I33)*24,0),"")) | Z33: =IF(J33="","",IF($H33<0,($J33-$I33)*24,"")) | AA33: =ROUNDDOWN((I33-J32)*24*60,0) -> 0 | AB33: =COUNTIF(H$2:H33,">0")/(COUNTIF(H$2:H33,"<0")+COUNTIF(H$2:H33,">0")) -> #DIV/0! | AC33: =ROUND(COUNTIF(H13:H32,">0")/(COUNTIF(H13:H32,"<0")+COUNTIF(H13:H32,">0")),2) -> #DIV/0! | AD33: =IF(AC32<$AM$38,"exclude","") -> #DIV/0! | AE33: =COUNTIF($H3:$H33,">0")/(COUNTIF($H3:$H33,"<0")+COUNTIF($H3:$H33,">0")) -> #DIV/0! | AF33: =SUM($H3:$H33)/COUNT($H3:$H33) -> #DIV/0! | AG33: =IF(ISERROR(SUMIF($G$1:$G33,">0")/-SUMIF($G$1:$G33,"<0"))=FALSE,SUMIF($G$1:$G33,">0")/-SUMIF($G$1:$G33,"<0"),"") | AI33: =IF(SIGN($G33)=1,1,"") | AJ33: =IF(SIGN($G33)=-1,1,"") | AK33: =G33/H33 -> #DIV/0!
A34: =LEFT(B34,4) | L34: =VLOOKUP(WEEKDAY(I34),daymap,2,0) -> Saturday | M34: =VLOOKUP(WEEKDAY(J34),daymap,2,0) -> Saturday | N34: =YEAR(I34) -> 1900 | O34: =MONTH(I34) -> 1 | P34: =WEEKNUM(I34) -> 0 | Q34: =HOUR(I34) -> 0 | R34: =MINUTE(I34) -> 0 | S34: =YEAR(I34)&"/"&MONTH(I34)&"/"&DAY(I34) -> 1900/1/0 | T34: =2*E34*C34*(IF(AT51<level1,comm1,IF(AT51<level2,comm2,IF(AT51<level3,comm3,IF(AT51<level4,comm4,IF(AT51<level5,comm5,IF(AT51<level6,comm6,IF(AT51<level7,comm7,IF(AT51<level8,comm8,IF(AT51<level9,comm9,0)))))))))) -> 0 | U34: =U33+G34-T34 -> 10000 | V34: =IF(ROW()=2,IF(SIGN($G33)<>SIGN($G34),$G34,$G33+$G34),IF(SIGN($G33)<>SIGN($G34),$G34,$G34+$V33)) -> 0 | W34: =IF(SIGN(H34)=1,IF(AND(H33>0,H34>0),1+W33,IF(H34>0,1,0)),IF(AND(H33<0,H34<0),W33-1,IF(H34<0,-1,0))) -> 0 | X34: =IF(J34="","",ROUNDDOWN(($J34-$I34)*24,0)) | Y34: =IF(J34="","",IF($H34>0,ROUNDDOWN(($J34-$I34)*24,0),"")) | Z34: =IF(J34="","",IF($H34<0,($J34-$I34)*24,"")) | AA34: =ROUNDDOWN((I34-J33)*24*60,0) -> 0 | AB34: =COUNTIF(H$2:H34,">0")/(COUNTIF(H$2:H34,"<0")+COUNTIF(H$2:H34,">0")) -> #DIV/0! | AC34: =ROUND(COUNTIF(H14:H33,">0")/(COUNTIF(H14:H33,"<0")+COUNTIF(H14:H33,">0")),2) -> #DIV/0! | AD34: =IF(AC33<$AM$38,"exclude","") -> #DIV/0! | AE34: =COUNTIF($H4:$H34,">0")/(COUNTIF($H4:$H34,"<0")+COUNTIF($H4:$H34,">0")) -> #DIV/0! | AF34: =SUM($H4:$H34)/COUNT($H4:$H34) -> #DIV/0! | AG34: =IF(ISERROR(SUMIF($G$1:$G34,">0")/-SUMIF($G$1:$G34,"<0"))=FALSE,SUMIF($G$1:$G34,">0")/-SUMIF($G$1:$G34,"<0"),"") | AI34: =IF(SIGN($G34)=1,1,"") | AJ34: =IF(SIGN($G34)=-1,1,"") | AK34: =G34/H34 -> #DIV/0!
A35: =LEFT(B35,4) | L35: =VLOOKUP(WEEKDAY(I35),daymap,2,0) -> Saturday | M35: =VLOOKUP(WEEKDAY(J35),daymap,2,0) -> Saturday | N35: =YEAR(I35) -> 1900 | O35: =MONTH(I35) -> 1 | P35: =WEEKNUM(I35) -> 0 | Q35: =HOUR(I35) -> 0 | R35: =MINUTE(I35) -> 0 | S35: =YEAR(I35)&"/"&MONTH(I35)&"/"&DAY(I35) -> 1900/1/0 | T35: =2*E35*C35*(IF(AT52<level1,comm1,IF(AT52<level2,comm2,IF(AT52<level3,comm3,IF(AT52<level4,comm4,IF(AT52<level5,comm5,IF(AT52<level6,comm6,IF(AT52<level7,comm7,IF(AT52<level8,comm8,IF(AT52<level9,comm9,0)))))))))) -> 0 | U35: =U34+G35-T35 -> 10000 | V35: =IF(ROW()=2,IF(SIGN($G34)<>SIGN($G35),$G35,$G34+$G35),IF(SIGN($G34)<>SIGN($G35),$G35,$G35+$V34)) -> 0 | W35: =IF(SIGN(H35)=1,IF(AND(H34>0,H35>0),1+W34,IF(H35>0,1,0)),IF(AND(H34<0,H35<0),W34-1,IF(H35<0,-1,0))) -> 0 | X35: =IF(J35="","",ROUNDDOWN(($J35-$I35)*24,0)) | Y35: =IF(J35="","",IF($H35>0,ROUNDDOWN(($J35-$I35)*24,0),"")) | Z35: =IF(J35="","",IF($H35<0,($J35-$I35)*24,"")) | AA35: =ROUNDDOWN((I35-J34)*24*60,0) -> 0 | AB35: =COUNTIF(H$2:H35,">0")/(COUNTIF(H$2:H35,"<0")+COUNTIF(H$2:H35,">0")) -> #DIV/0! | AC35: =ROUND(COUNTIF(H15:H34,">0")/(COUNTIF(H15:H34,"<0")+COUNTIF(H15:H34,">0")),2) -> #DIV/0! | AD35: =IF(AC34<$AM$38,"exclude","") -> #DIV/0! | AE35: =COUNTIF($H5:$H35,">0")/(COUNTIF($H5:$H35,"<0")+COUNTIF($H5:$H35,">0")) -> #DIV/0! | AF35: =SUM($H5:$H35)/COUNT($H5:$H35) -> #DIV/0! | AG35: =IF(ISERROR(SUMIF($G$1:$G35,">0")/-SUMIF($G$1:$G35,"<0"))=FALSE,SUMIF($G$1:$G35,">0")/-SUMIF($G$1:$G35,"<0"),"") | AI35: =IF(SIGN($G35)=1,1,"") | AJ35: =IF(SIGN($G35)=-1,1,"") | AK35: =G35/H35 -> #DIV/0!
A36: =LEFT(B36,4) | L36: =VLOOKUP(WEEKDAY(I36),daymap,2,0) -> Saturday | M36: =VLOOKUP(WEEKDAY(J36),daymap,2,0) -> Saturday | N36: =YEAR(I36) -> 1900 | O36: =MONTH(I36) -> 1 | P36: =WEEKNUM(I36) -> 0 | Q36: =HOUR(I36) -> 0 | R36: =MINUTE(I36) -> 0 | S36: =YEAR(I36)&"/"&MONTH(I36)&"/"&DAY(I36) -> 1900/1/0 | T36: =2*E36*C36*(IF(AT53<level1,comm1,IF(AT53<level2,comm2,IF(AT53<level3,comm3,IF(AT53<level4,comm4,IF(AT53<level5,comm5,IF(AT53<level6,comm6,IF(AT53<level7,comm7,IF(AT53<level8,comm8,IF(AT53<level9,comm9,0)))))))))) -> 0 | U36: =U35+G36-T36 -> 10000 | V36: =IF(ROW()=2,IF(SIGN($G35)<>SIGN($G36),$G36,$G35+$G36),IF(SIGN($G35)<>SIGN($G36),$G36,$G36+$V35)) -> 0 | W36: =IF(SIGN(H36)=1,IF(AND(H35>0,H36>0),1+W35,IF(H36>0,1,0)),IF(AND(H35<0,H36<0),W35-1,IF(H36<0,-1,0))) -> 0 | X36: =IF(J36="","",ROUNDDOWN(($J36-$I36)*24,0)) | Y36: =IF(J36="","",IF($H36>0,ROUNDDOWN(($J36-$I36)*24,0),"")) | Z36: =IF(J36="","",IF($H36<0,($J36-$I36)*24,"")) | AA36: =ROUNDDOWN((I36-J35)*24*60,0) -> 0 | AB36: =COUNTIF(H$2:H36,">0")/(COUNTIF(H$2:H36,"<0")+COUNTIF(H$2:H36,">0")) -> #DIV/0! | AC36: =ROUND(COUNTIF(H16:H35,">0")/(COUNTIF(H16:H35,"<0")+COUNTIF(H16:H35,">0")),2) -> #DIV/0! | AD36: =IF(AC35<$AM$38,"exclude","") -> #DIV/0! | AE36: =COUNTIF($H6:$H36,">0")/(COUNTIF($H6:$H36,"<0")+COUNTIF($H6:$H36,">0")) -> #DIV/0! | AF36: =SUM($H6:$H36)/COUNT($H6:$H36) -> #DIV/0! | AG36: =IF(ISERROR(SUMIF($G$1:$G36,">0")/-SUMIF($G$1:$G36,"<0"))=FALSE,SUMIF($G$1:$G36,">0")/-SUMIF($G$1:$G36,"<0"),"") | AI36: =IF(SIGN($G36)=1,1,"") | AJ36: =IF(SIGN($G36)=-1,1,"") | AK36: =G36/H36 -> #DIV/0!
A37: =LEFT(B37,4) | L37: =VLOOKUP(WEEKDAY(I37),daymap,2,0) -> Saturday | M37: =VLOOKUP(WEEKDAY(J37),daymap,2,0) -> Saturday | N37: =YEAR(I37) -> 1900 | O37: =MONTH(I37) -> 1 | P37: =WEEKNUM(I37) -> 0 | Q37: =HOUR(I37) -> 0 | R37: =MINUTE(I37) -> 0 | S37: =YEAR(I37)&"/"&MONTH(I37)&"/"&DAY(I37) -> 1900/1/0 | T37: =2*E37*C37*(IF(AT54<level1,comm1,IF(AT54<level2,comm2,IF(AT54<level3,comm3,IF(AT54<level4,comm4,IF(AT54<level5,comm5,IF(AT54<level6,comm6,IF(AT54<level7,comm7,IF(AT54<level8,comm8,IF(AT54<level9,comm9,0)))))))))) -> 0 | U37: =U36+G37-T37 -> 10000 | V37: =IF(ROW()=2,IF(SIGN($G36)<>SIGN($G37),$G37,$G36+$G37),IF(SIGN($G36)<>SIGN($G37),$G37,$G37+$V36)) -> 0 | W37: =IF(SIGN(H37)=1,IF(AND(H36>0,H37>0),1+W36,IF(H37>0,1,0)),IF(AND(H36<0,H37<0),W36-1,IF(H37<0,-1,0))) -> 0 | X37: =IF(J37="","",ROUNDDOWN(($J37-$I37)*24,0)) | Y37: =IF(J37="","",IF($H37>0,ROUNDDOWN(($J37-$I37)*24,0),"")) | Z37: =IF(J37="","",IF($H37<0,($J37-$I37)*24,"")) | AA37: =ROUNDDOWN((I37-J36)*24*60,0) -> 0 | AB37: =COUNTIF(H$2:H37,">0")/(COUNTIF(H$2:H37,"<0")+COUNTIF(H$2:H37,">0")) -> #DIV/0! | AC37: =ROUND(COUNTIF(H17:H36,">0")/(COUNTIF(H17:H36,"<0")+COUNTIF(H17:H36,">0")),2) -> #DIV/0! | AD37: =IF(AC36<$AM$38,"exclude","") -> #DIV/0! | AE37: =COUNTIF($H7:$H37,">0")/(COUNTIF($H7:$H37,"<0")+COUNTIF($H7:$H37,">0")) -> #DIV/0! | AF37: =SUM($H7:$H37)/COUNT($H7:$H37) -> #DIV/0! | AG37: =IF(ISERROR(SUMIF($G$1:$G37,">0")/-SUMIF($G$1:$G37,"<0"))=FALSE,SUMIF($G$1:$G37,">0")/-SUMIF($G$1:$G37,"<0"),"") | AI37: =IF(SIGN($G37)=1,1,"") | AJ37: =IF(SIGN($G37)=-1,1,"") | AK37: =G37/H37 -> #DIV/0!
A38: =LEFT(B38,4) | L38: =VLOOKUP(WEEKDAY(I38),daymap,2,0) -> Saturday | M38: =VLOOKUP(WEEKDAY(J38),daymap,2,0) -> Saturday | N38: =YEAR(I38) -> 1900 | O38: =MONTH(I38) -> 1 | P38: =WEEKNUM(I38) -> 0 | Q38: =HOUR(I38) -> 0 | R38: =MINUTE(I38) -> 0 | S38: =YEAR(I38)&"/"&MONTH(I38)&"/"&DAY(I38) -> 1900/1/0 | T38: =2*E38*C38*(IF(AT55<level1,comm1,IF(AT55<level2,comm2,IF(AT55<level3,comm3,IF(AT55<level4,comm4,IF(AT55<level5,comm5,IF(AT55<level6,comm6,IF(AT55<level7,comm7,IF(AT55<level8,comm8,IF(AT55<level9,comm9,0)))))))))) -> 0 | U38: =U37+G38-T38 -> 10000 | V38: =IF(ROW()=2,IF(SIGN($G37)<>SIGN($G38),$G38,$G37+$G38),IF(SIGN($G37)<>SIGN($G38),$G38,$G38+$V37)) -> 0 | W38: =IF(SIGN(H38)=1,IF(AND(H37>0,H38>0),1+W37,IF(H38>0,1,0)),IF(AND(H37<0,H38<0),W37-1,IF(H38<0,-1,0))) -> 0 | X38: =IF(J38="","",ROUNDDOWN(($J38-$I38)*24,0)) | Y38: =IF(J38="","",IF($H38>0,ROUNDDOWN(($J38-$I38)*24,0),"")) | Z38: =IF(J38="","",IF($H38<0,($J38-$I38)*24,"")) | AA38: =ROUNDDOWN((I38-J37)*24*60,0) -> 0 | AB38: =COUNTIF(H$2:H38,">0")/(COUNTIF(H$2:H38,"<0")+COUNTIF(H$2:H38,">0")) -> #DIV/0! | AC38: =ROUND(COUNTIF(H18:H37,">0")/(COUNTIF(H18:H37,"<0")+COUNTIF(H18:H37,">0")),2) -> #DIV/0! | AD38: =IF(AC37<$AM$38,"exclude","") -> #DIV/0! | AE38: =COUNTIF($H8:$H38,">0")/(COUNTIF($H8:$H38,"<0")+COUNTIF($H8:$H38,">0")) -> #DIV/0! | AF38: =SUM($H8:$H38)/COUNT($H8:$H38) -> #DIV/0! | AG38: =IF(ISERROR(SUMIF($G$1:$G38,">0")/-SUMIF($G$1:$G38,"<0"))=FALSE,SUMIF($G$1:$G38,">0")/-SUMIF($G$1:$G38,"<0"),"") | AI38: =IF(SIGN($G38)=1,1,"") | AJ38: =IF(SIGN($G38)=-1,1,"") | AK38: =G38/H38 -> #DIV/0! | AL38: Win/loss trigger | AM38: 0 | AN38: 0.72
A39: =LEFT(B39,4) | L39: =VLOOKUP(WEEKDAY(I39),daymap,2,0) -> Saturday | M39: =VLOOKUP(WEEKDAY(J39),daymap,2,0) -> Saturday | N39: =YEAR(I39) -> 1900 | O39: =MONTH(I39) -> 1 | P39: =WEEKNUM(I39) -> 0 | Q39: =HOUR(I39) -> 0 | R39: =MINUTE(I39) -> 0 | S39: =YEAR(I39)&"/"&MONTH(I39)&"/"&DAY(I39) -> 1900/1/0 | T39: =2*E39*C39*(IF(AT56<level1,comm1,IF(AT56<level2,comm2,IF(AT56<level3,comm3,IF(AT56<level4,comm4,IF(AT56<level5,comm5,IF(AT56<level6,comm6,IF(AT56<level7,comm7,IF(AT56<level8,comm8,IF(AT56<level9,comm9,0)))))))))) -> 0 | U39: =U38+G39-T39 -> 10000 | V39: =IF(ROW()=2,IF(SIGN($G38)<>SIGN($G39),$G39,$G38+$G39),IF(SIGN($G38)<>SIGN($G39),$G39,$G39+$V38)) -> 0 | W39: =IF(SIGN(H39)=1,IF(AND(H38>0,H39>0),1+W38,IF(H39>0,1,0)),IF(AND(H38<0,H39<0),W38-1,IF(H39<0,-1,0))) -> 0 | X39: =IF(J39="","",ROUNDDOWN(($J39-$I39)*24,0)) | Y39: =IF(J39="","",IF($H39>0,ROUNDDOWN(($J39-$I39)*24,0),"")) | Z39: =IF(J39="","",IF($H39<0,($J39-$I39)*24,"")) | AA39: =ROUNDDOWN((I39-J38)*24*60,0) -> 0 | AB39: =COUNTIF(H$2:H39,">0")/(COUNTIF(H$2:H39,"<0")+COUNTIF(H$2:H39,">0")) -> #DIV/0! | AC39: =ROUND(COUNTIF(H19:H38,">0")/(COUNTIF(H19:H38,"<0")+COUNTIF(H19:H38,">0")),2) -> #DIV/0! | AD39: =IF(AC38<$AM$38,"exclude","") -> #DIV/0! | AE39: =COUNTIF($H9:$H39,">0")/(COUNTIF($H9:$H39,"<0")+COUNTIF($H9:$H39,">0")) -> #DIV/0! | AF39: =SUM($H9:$H39)/COUNT($H9:$H39) -> #DIV/0! | AG39: =IF(ISERROR(SUMIF($G$1:$G39,">0")/-SUMIF($G$1:$G39,"<0"))=FALSE,SUMIF($G$1:$G39,">0")/-SUMIF($G$1:$G39,"<0"),"") | AI39: =IF(SIGN($G39)=1,1,"") | AJ39: =IF(SIGN($G39)=-1,1,"") | AK39: =G39/H39 -> #DIV/0!
A40: =LEFT(B40,4) | L40: =VLOOKUP(WEEKDAY(I40),daymap,2,0) -> Saturday | M40: =VLOOKUP(WEEKDAY(J40),daymap,2,0) -> Saturday | N40: =YEAR(I40) -> 1900 | O40: =MONTH(I40) -> 1 | P40: =WEEKNUM(I40) -> 0 | Q40: =HOUR(I40) -> 0 | R40: =MINUTE(I40) -> 0 | S40: =YEAR(I40)&"/"&MONTH(I40)&"/"&DAY(I40) -> 1900/1/0 | T40: =2*E40*C40*(IF(AT57<level1,comm1,IF(AT57<level2,comm2,IF(AT57<level3,comm3,IF(AT57<level4,comm4,IF(AT57<level5,comm5,IF(AT57<level6,comm6,IF(AT57<level7,comm7,IF(AT57<level8,comm8,IF(AT57<level9,comm9,0)))))))))) -> 0 | U40: =U39+G40-T40 -> 10000 | V40: =IF(ROW()=2,IF(SIGN($G39)<>SIGN($G40),$G40,$G39+$G40),IF(SIGN($G39)<>SIGN($G40),$G40,$G40+$V39)) -> 0 | W40: =IF(SIGN(H40)=1,IF(AND(H39>0,H40>0),1+W39,IF(H40>0,1,0)),IF(AND(H39<0,H40<0),W39-1,IF(H40<0,-1,0))) -> 0 | X40: =IF(J40="","",ROUNDDOWN(($J40-$I40)*24,0)) | Y40: =IF(J40="","",IF($H40>0,ROUNDDOWN(($J40-$I40)*24,0),"")) | Z40: =IF(J40="","",IF($H40<0,($J40-$I40)*24,"")) | AA40: =ROUNDDOWN((I40-J39)*24*60,0) -> 0 | AB40: =COUNTIF(H$2:H40,">0")/(COUNTIF(H$2:H40,"<0")+COUNTIF(H$2:H40,">0")) -> #DIV/0! | AC40: =ROUND(COUNTIF(H20:H39,">0")/(COUNTIF(H20:H39,"<0")+COUNTIF(H20:H39,">0")),2) -> #DIV/0! | AD40: =IF(AC39<$AM$38,"exclude","") -> #DIV/0! | AE40: =COUNTIF($H10:$H40,">0")/(COUNTIF($H10:$H40,"<0")+COUNTIF($H10:$H40,">0")) -> #DIV/0! | AF40: =SUM($H10:$H40)/COUNT($H10:$H40) -> #DIV/0! | AG40: =IF(ISERROR(SUMIF($G$1:$G40,">0")/-SUMIF($G$1:$G40,"<0"))=FALSE,SUMIF($G$1:$G40,">0")/-SUMIF($G$1:$G40,"<0"),"") | AI40: =IF(SIGN($G40)=1,1,"") | AJ40: =IF(SIGN($G40)=-1,1,"") | AK40: =G40/H40 -> #DIV/0!
A41: =LEFT(B41,4) | L41: =VLOOKUP(WEEKDAY(I41),daymap,2,0) -> Saturday | M41: =VLOOKUP(WEEKDAY(J41),daymap,2,0) -> Saturday | N41: =YEAR(I41) -> 1900 | O41: =MONTH(I41) -> 1 | P41: =WEEKNUM(I41) -> 0 | Q41: =HOUR(I41) -> 0 | R41: =MINUTE(I41) -> 0 | S41: =YEAR(I41)&"/"&MONTH(I41)&"/"&DAY(I41) -> 1900/1/0 | T41: =2*E41*C41*(IF(AT58<level1,comm1,IF(AT58<level2,comm2,IF(AT58<level3,comm3,IF(AT58<level4,comm4,IF(AT58<level5,comm5,IF(AT58<level6,comm6,IF(AT58<level7,comm7,IF(AT58<level8,comm8,IF(AT58<level9,comm9,0)))))))))) -> 0 | U41: =U40+G41-T41 -> 10000 | V41: =IF(ROW()=2,IF(SIGN($G40)<>SIGN($G41),$G41,$G40+$G41),IF(SIGN($G40)<>SIGN($G41),$G41,$G41+$V40)) -> 0 | W41: =IF(SIGN(H41)=1,IF(AND(H40>0,H41>0),1+W40,IF(H41>0,1,0)),IF(AND(H40<0,H41<0),W40-1,IF(H41<0,-1,0))) -> 0 | X41: =IF(J41="","",ROUNDDOWN(($J41-$I41)*24,0)) | Y41: =IF(J41="","",IF($H41>0,ROUNDDOWN(($J41-$I41)*24,0),"")) | Z41: =IF(J41="","",IF($H41<0,($J41-$I41)*24,"")) | AA41: =ROUNDDOWN((I41-J40)*24*60,0) -> 0 | AB41: =COUNTIF(H$2:H41,">0")/(COUNTIF(H$2:H41,"<0")+COUNTIF(H$2:H41,">0")) -> #DIV/0! | AC41: =ROUND(COUNTIF(H21:H40,">0")/(COUNTIF(H21:H40,"<0")+COUNTIF(H21:H40,">0")),2) -> #DIV/0! | AD41: =IF(AC40<$AM$38,"exclude","") -> #DIV/0! | AE41: =COUNTIF($H11:$H41,">0")/(COUNTIF($H11:$H41,"<0")+COUNTIF($H11:$H41,">0")) -> #DIV/0! | AF41: =SUM($H11:$H41)/COUNT($H11:$H41) -> #DIV/0! | AG41: =IF(ISERROR(SUMIF($G$1:$G41,">0")/-SUMIF($G$1:$G41,"<0"))=FALSE,SUMIF($G$1:$G41,">0")/-SUMIF($G$1:$G41,"<0"),"") | AI41: =IF(SIGN($G41)=1,1,"") | AJ41: =IF(SIGN($G41)=-1,1,"") | AK41: =G41/H41 -> #DIV/0!
A42: =LEFT(B42,4) | L42: =VLOOKUP(WEEKDAY(I42),daymap,2,0) -> Saturday | M42: =VLOOKUP(WEEKDAY(J42),daymap,2,0) -> Saturday | N42: =YEAR(I42) -> 1900 | O42: =MONTH(I42) -> 1 | P42: =WEEKNUM(I42) -> 0 | Q42: =HOUR(I42) -> 0 | R42: =MINUTE(I42) -> 0 | S42: =YEAR(I42)&"/"&MONTH(I42)&"/"&DAY(I42) -> 1900/1/0 | T42: =2*E42*C42*(IF(AT59<level1,comm1,IF(AT59<level2,comm2,IF(AT59<level3,comm3,IF(AT59<level4,comm4,IF(AT59<level5,comm5,IF(AT59<level6,comm6,IF(AT59<level7,comm7,IF(AT59<level8,comm8,IF(AT59<level9,comm9,0)))))))))) -> 0 | U42: =U41+G42-T42 -> 10000 | V42: =IF(ROW()=2,IF(SIGN($G41)<>SIGN($G42),$G42,$G41+$G42),IF(SIGN($G41)<>SIGN($G42),$G42,$G42+$V41)) -> 0 | W42: =IF(SIGN(H42)=1,IF(AND(H41>0,H42>0),1+W41,IF(H42>0,1,0)),IF(AND(H41<0,H42<0),W41-1,IF(H42<0,-1,0))) -> 0 | X42: =IF(J42="","",ROUNDDOWN(($J42-$I42)*24,0)) | Y42: =IF(J42="","",IF($H42>0,ROUNDDOWN(($J42-$I42)*24,0),"")) | Z42: =IF(J42="","",IF($H42<0,($J42-$I42)*24,"")) | AA42: =ROUNDDOWN((I42-J41)*24*60,0) -> 0 | AB42: =COUNTIF(H$2:H42,">0")/(COUNTIF(H$2:H42,"<0")+COUNTIF(H$2:H42,">0")) -> #DIV/0! | AC42: =ROUND(COUNTIF(H22:H41,">0")/(COUNTIF(H22:H41,"<0")+COUNTIF(H22:H41,">0")),2) -> #DIV/0! | AD42: =IF(AC41<$AM$38,"exclude","") -> #DIV/0! | AE42: =COUNTIF($H12:$H42,">0")/(COUNTIF($H12:$H42,"<0")+COUNTIF($H12:$H42,">0")) -> #DIV/0! | AF42: =SUM($H12:$H42)/COUNT($H12:$H42) -> #DIV/0! | AG42: =IF(ISERROR(SUMIF($G$1:$G42,">0")/-SUMIF($G$1:$G42,"<0"))=FALSE,SUMIF($G$1:$G42,">0")/-SUMIF($G$1:$G42,"<0"),"") | AI42: =IF(SIGN($G42)=1,1,"") | AJ42: =IF(SIGN($G42)=-1,1,"") | AK42: =G42/H42 -> #DIV/0! | AP42: =2431-2384 -> 47
A43: =LEFT(B43,4) | L43: =VLOOKUP(WEEKDAY(I43),daymap,2,0) -> Saturday | M43: =VLOOKUP(WEEKDAY(J43),daymap,2,0) -> Saturday | N43: =YEAR(I43) -> 1900 | O43: =MONTH(I43) -> 1 | P43: =WEEKNUM(I43) -> 0 | Q43: =HOUR(I43) -> 0 | R43: =MINUTE(I43) -> 0 | S43: =YEAR(I43)&"/"&MONTH(I43)&"/"&DAY(I43) -> 1900/1/0 | T43: =2*E43*C43*(IF(AT60<level1,comm1,IF(AT60<level2,comm2,IF(AT60<level3,comm3,IF(AT60<level4,comm4,IF(AT60<level5,comm5,IF(AT60<level6,comm6,IF(AT60<level7,comm7,IF(AT60<level8,comm8,IF(AT60<level9,comm9,0)))))))))) -> 0 | U43: =U42+G43-T43 -> 10000 | V43: =IF(ROW()=2,IF(SIGN($G42)<>SIGN($G43),$G43,$G42+$G43),IF(SIGN($G42)<>SIGN($G43),$G43,$G43+$V42)) -> 0 | W43: =IF(SIGN(H43)=1,IF(AND(H42>0,H43>0),1+W42,IF(H43>0,1,0)),IF(AND(H42<0,H43<0),W42-1,IF(H43<0,-1,0))) -> 0 | X43: =IF(J43="","",ROUNDDOWN(($J43-$I43)*24,0)) | Y43: =IF(J43="","",IF($H43>0,ROUNDDOWN(($J43-$I43)*24,0),"")) | Z43: =IF(J43="","",IF($H43<0,($J43-$I43)*24,"")) | AA43: =ROUNDDOWN((I43-J42)*24*60,0) -> 0 | AB43: =COUNTIF(H$2:H43,">0")/(COUNTIF(H$2:H43,"<0")+COUNTIF(H$2:H43,">0")) -> #DIV/0! | AC43: =ROUND(COUNTIF(H23:H42,">0")/(COUNTIF(H23:H42,"<0")+COUNTIF(H23:H42,">0")),2) -> #DIV/0! | AD43: =IF(AC42<$AM$38,"exclude","") -> #DIV/0! | AE43: =COUNTIF($H13:$H43,">0")/(COUNTIF($H13:$H43,"<0")+COUNTIF($H13:$H43,">0")) -> #DIV/0! | AF43: =SUM($H13:$H43)/COUNT($H13:$H43) -> #DIV/0! | AG43: =IF(ISERROR(SUMIF($G$1:$G43,">0")/-SUMIF($G$1:$G43,"<0"))=FALSE,SUMIF($G$1:$G43,">0")/-SUMIF($G$1:$G43,"<0"),"") | AI43: =IF(SIGN($G43)=1,1,"") | AJ43: =IF(SIGN($G43)=-1,1,"") | AK43: =G43/H43 -> #DIV/0!
A44: =LEFT(B44,4) | L44: =VLOOKUP(WEEKDAY(I44),daymap,2,0) -> Saturday | M44: =VLOOKUP(WEEKDAY(J44),daymap,2,0) -> Saturday | N44: =YEAR(I44) -> 1900 | O44: =MONTH(I44) -> 1 | P44: =WEEKNUM(I44) -> 0 | Q44: =HOUR(I44) -> 0 | R44: =MINUTE(I44) -> 0 | S44: =YEAR(I44)&"/"&MONTH(I44)&"/"&DAY(I44) -> 1900/1/0 | T44: =2*E44*C44*(IF(AT61<level1,comm1,IF(AT61<level2,comm2,IF(AT61<level3,comm3,IF(AT61<level4,comm4,IF(AT61<level5,comm5,IF(AT61<level6,comm6,IF(AT61<level7,comm7,IF(AT61<level8,comm8,IF(AT61<level9,comm9,0)))))))))) -> 0 | U44: =U43+G44-T44 -> 10000 | V44: =IF(ROW()=2,IF(SIGN($G43)<>SIGN($G44),$G44,$G43+$G44),IF(SIGN($G43)<>SIGN($G44),$G44,$G44+$V43)) -> 0 | W44: =IF(SIGN(H44)=1,IF(AND(H43>0,H44>0),1+W43,IF(H44>0,1,0)),IF(AND(H43<0,H44<0),W43-1,IF(H44<0,-1,0))) -> 0 | X44: =IF(J44="","",ROUNDDOWN(($J44-$I44)*24,0)) | Y44: =IF(J44="","",IF($H44>0,ROUNDDOWN(($J44-$I44)*24,0),"")) | Z44: =IF(J44="","",IF($H44<0,($J44-$I44)*24,"")) | AA44: =ROUNDDOWN((I44-J43)*24*60,0) -> 0 | AB44: =COUNTIF(H$2:H44,">0")/(COUNTIF(H$2:H44,"<0")+COUNTIF(H$2:H44,">0")) -> #DIV/0! | AC44: =ROUND(COUNTIF(H24:H43,">0")/(COUNTIF(H24:H43,"<0")+COUNTIF(H24:H43,">0")),2) -> #DIV/0! | AD44: =IF(AC43<$AM$38,"exclude","") -> #DIV/0! | AE44: =COUNTIF($H14:$H44,">0")/(COUNTIF($H14:$H44,"<0")+COUNTIF($H14:$H44,">0")) -> #DIV/0! | AF44: =SUM($H14:$H44)/COUNT($H14:$H44) -> #DIV/0! | AG44: =IF(ISERROR(SUMIF($G$1:$G44,">0")/-SUMIF($G$1:$G44,"<0"))=FALSE,SUMIF($G$1:$G44,">0")/-SUMIF($G$1:$G44,"<0"),"") | AI44: =IF(SIGN($G44)=1,1,"") | AJ44: =IF(SIGN($G44)=-1,1,"") | AK44: =G44/H44 -> #DIV/0!
A45: =LEFT(B45,4) | L45: =VLOOKUP(WEEKDAY(I45),daymap,2,0) -> Saturday | M45: =VLOOKUP(WEEKDAY(J45),daymap,2,0) -> Saturday | N45: =YEAR(I45) -> 1900 | O45: =MONTH(I45) -> 1 | P45: =WEEKNUM(I45) -> 0 | Q45: =HOUR(I45) -> 0 | R45: =MINUTE(I45) -> 0 | S45: =YEAR(I45)&"/"&MONTH(I45)&"/"&DAY(I45) -> 1900/1/0 | T45: =2*E45*C45*(IF(AT62<level1,comm1,IF(AT62<level2,comm2,IF(AT62<level3,comm3,IF(AT62<level4,comm4,IF(AT62<level5,comm5,IF(AT62<level6,comm6,IF(AT62<level7,comm7,IF(AT62<level8,comm8,IF(AT62<level9,comm9,0)))))))))) -> 0 | U45: =U44+G45-T45 -> 10000 | V45: =IF(ROW()=2,IF(SIGN($G44)<>SIGN($G45),$G45,$G44+$G45),IF(SIGN($G44)<>SIGN($G45),$G45,$G45+$V44)) -> 0 | W45: =IF(SIGN(H45)=1,IF(AND(H44>0,H45>0),1+W44,IF(H45>0,1,0)),IF(AND(H44<0,H45<0),W44-1,IF(H45<0,-1,0))) -> 0 | X45: =IF(J45="","",ROUNDDOWN(($J45-$I45)*24,0)) | Y45: =IF(J45="","",IF($H45>0,ROUNDDOWN(($J45-$I45)*24,0),"")) | Z45: =IF(J45="","",IF($H45<0,($J45-$I45)*24,"")) | AA45: =ROUNDDOWN((I45-J44)*24*60,0) -> 0 | AB45: =COUNTIF(H$2:H45,">0")/(COUNTIF(H$2:H45,"<0")+COUNTIF(H$2:H45,">0")) -> #DIV/0! | AC45: =ROUND(COUNTIF(H25:H44,">0")/(COUNTIF(H25:H44,"<0")+COUNTIF(H25:H44,">0")),2) -> #DIV/0! | AD45: =IF(AC44<$AM$38,"exclude","") -> #DIV/0! | AE45: =COUNTIF($H15:$H45,">0")/(COUNTIF($H15:$H45,"<0")+COUNTIF($H15:$H45,">0")) -> #DIV/0! | AF45: =SUM($H15:$H45)/COUNT($H15:$H45) -> #DIV/0! | AG45: =IF(ISERROR(SUMIF($G$1:$G45,">0")/-SUMIF($G$1:$G45,"<0"))=FALSE,SUMIF($G$1:$G45,">0")/-SUMIF($G$1:$G45,"<0"),"") | AI45: =IF(SIGN($G45)=1,1,"") | AJ45: =IF(SIGN($G45)=-1,1,"") | AK45: =G45/H45 -> #DIV/0!
A46: =LEFT(B46,4) | L46: =VLOOKUP(WEEKDAY(I46),daymap,2,0) -> Saturday | M46: =VLOOKUP(WEEKDAY(J46),daymap,2,0) -> Saturday | N46: =YEAR(I46) -> 1900 | O46: =MONTH(I46) -> 1 | P46: =WEEKNUM(I46) -> 0 | Q46: =HOUR(I46) -> 0 | R46: =MINUTE(I46) -> 0 | S46: =YEAR(I46)&"/"&MONTH(I46)&"/"&DAY(I46) -> 1900/1/0 | T46: =2*E46*C46*(IF(AT63<level1,comm1,IF(AT63<level2,comm2,IF(AT63<level3,comm3,IF(AT63<level4,comm4,IF(AT63<level5,comm5,IF(AT63<level6,comm6,IF(AT63<level7,comm7,IF(AT63<level8,comm8,IF(AT63<level9,comm9,0)))))))))) -> 0 | U46: =U45+G46-T46 -> 10000 | V46: =IF(ROW()=2,IF(SIGN($G45)<>SIGN($G46),$G46,$G45+$G46),IF(SIGN($G45)<>SIGN($G46),$G46,$G46+$V45)) -> 0 | W46: =IF(SIGN(H46)=1,IF(AND(H45>0,H46>0),1+W45,IF(H46>0,1,0)),IF(AND(H45<0,H46<0),W45-1,IF(H46<0,-1,0))) -> 0 | X46: =IF(J46="","",ROUNDDOWN(($J46-$I46)*24,0)) | Y46: =IF(J46="","",IF($H46>0,ROUNDDOWN(($J46-$I46)*24,0),"")) | Z46: =IF(J46="","",IF($H46<0,($J46-$I46)*24,"")) | AA46: =ROUNDDOWN((I46-J45)*24*60,0) -> 0 | AB46: =COUNTIF(H$2:H46,">0")/(COUNTIF(H$2:H46,"<0")+COUNTIF(H$2:H46,">0")) -> #DIV/0! | AC46: =ROUND(COUNTIF(H26:H45,">0")/(COUNTIF(H26:H45,"<0")+COUNTIF(H26:H45,">0")),2) -> #DIV/0! | AD46: =IF(AC45<$AM$38,"exclude","") -> #DIV/0! | AE46: =COUNTIF($H16:$H46,">0")/(COUNTIF($H16:$H46,"<0")+COUNTIF($H16:$H46,">0")) -> #DIV/0! | AF46: =SUM($H16:$H46)/COUNT($H16:$H46) -> #DIV/0! | AG46: =IF(ISERROR(SUMIF($G$1:$G46,">0")/-SUMIF($G$1:$G46,"<0"))=FALSE,SUMIF($G$1:$G46,">0")/-SUMIF($G$1:$G46,"<0"),"") | AI46: =IF(SIGN($G46)=1,1,"") | AJ46: =IF(SIGN($G46)=-1,1,"") | AK46: =G46/H46 -> #DIV/0!
A47: =LEFT(B47,4) | L47: =VLOOKUP(WEEKDAY(I47),daymap,2,0) -> Saturday | M47: =VLOOKUP(WEEKDAY(J47),daymap,2,0) -> Saturday | N47: =YEAR(I47) -> 1900 | O47: =MONTH(I47) -> 1 | P47: =WEEKNUM(I47) -> 0 | Q47: =HOUR(I47) -> 0 | R47: =MINUTE(I47) -> 0 | S47: =YEAR(I47)&"/"&MONTH(I47)&"/"&DAY(I47) -> 1900/1/0 | T47: =2*E47*C47*(IF(AT64<level1,comm1,IF(AT64<level2,comm2,IF(AT64<level3,comm3,IF(AT64<level4,comm4,IF(AT64<level5,comm5,IF(AT64<level6,comm6,IF(AT64<level7,comm7,IF(AT64<level8,comm8,IF(AT64<level9,comm9,0)))))))))) -> 0 | U47: =U46+G47-T47 -> 10000 | V47: =IF(ROW()=2,IF(SIGN($G46)<>SIGN($G47),$G47,$G46+$G47),IF(SIGN($G46)<>SIGN($G47),$G47,$G47+$V46)) -> 0 | W47: =IF(SIGN(H47)=1,IF(AND(H46>0,H47>0),1+W46,IF(H47>0,1,0)),IF(AND(H46<0,H47<0),W46-1,IF(H47<0,-1,0))) -> 0 | X47: =IF(J47="","",ROUNDDOWN(($J47-$I47)*24,0)) | Y47: =IF(J47="","",IF($H47>0,ROUNDDOWN(($J47-$I47)*24,0),"")) | Z47: =IF(J47="","",IF($H47<0,($J47-$I47)*24,"")) | AA47: =ROUNDDOWN((I47-J46)*24*60,0) -> 0 | AB47: =COUNTIF(H$2:H47,">0")/(COUNTIF(H$2:H47,"<0")+COUNTIF(H$2:H47,">0")) -> #DIV/0! | AC47: =ROUND(COUNTIF(H27:H46,">0")/(COUNTIF(H27:H46,"<0")+COUNTIF(H27:H46,">0")),2) -> #DIV/0! | AD47: =IF(AC46<$AM$38,"exclude","") -> #DIV/0! | AE47: =COUNTIF($H17:$H47,">0")/(COUNTIF($H17:$H47,"<0")+COUNTIF($H17:$H47,">0")) -> #DIV/0! | AF47: =SUM($H17:$H47)/COUNT($H17:$H47) -> #DIV/0! | AG47: =IF(ISERROR(SUMIF($G$1:$G47,">0")/-SUMIF($G$1:$G47,"<0"))=FALSE,SUMIF($G$1:$G47,">0")/-SUMIF($G$1:$G47,"<0"),"") | AI47: =IF(SIGN($G47)=1,1,"") | AJ47: =IF(SIGN($G47)=-1,1,"") | AK47: =G47/H47 -> #DIV/0!
A48: =LEFT(B48,4) | L48: =VLOOKUP(WEEKDAY(I48),daymap,2,0) -> Saturday | M48: =VLOOKUP(WEEKDAY(J48),daymap,2,0) -> Saturday | N48: =YEAR(I48) -> 1900 | O48: =MONTH(I48) -> 1 | P48: =WEEKNUM(I48) -> 0 | Q48: =HOUR(I48) -> 0 | R48: =MINUTE(I48) -> 0 | S48: =YEAR(I48)&"/"&MONTH(I48)&"/"&DAY(I48) -> 1900/1/0 | T48: =2*E48*C48*(IF(AT65<level1,comm1,IF(AT65<level2,comm2,IF(AT65<level3,comm3,IF(AT65<level4,comm4,IF(AT65<level5,comm5,IF(AT65<level6,comm6,IF(AT65<level7,comm7,IF(AT65<level8,comm8,IF(AT65<level9,comm9,0)))))))))) -> 0 | U48: =U47+G48-T48 -> 10000 | V48: =IF(ROW()=2,IF(SIGN($G47)<>SIGN($G48),$G48,$G47+$G48),IF(SIGN($G47)<>SIGN($G48),$G48,$G48+$V47)) -> 0 | W48: =IF(SIGN(H48)=1,IF(AND(H47>0,H48>0),1+W47,IF(H48>0,1,0)),IF(AND(H47<0,H48<0),W47-1,IF(H48<0,-1,0))) -> 0 | X48: =IF(J48="","",ROUNDDOWN(($J48-$I48)*24,0)) | Y48: =IF(J48="","",IF($H48>0,ROUNDDOWN(($J48-$I48)*24,0),"")) | Z48: =IF(J48="","",IF($H48<0,($J48-$I48)*24,"")) | AA48: =ROUNDDOWN((I48-J47)*24*60,0) -> 0 | AB48: =COUNTIF(H$2:H48,">0")/(COUNTIF(H$2:H48,"<0")+COUNTIF(H$2:H48,">0")) -> #DIV/0! | AC48: =ROUND(COUNTIF(H28:H47,">0")/(COUNTIF(H28:H47,"<0")+COUNTIF(H28:H47,">0")),2) -> #DIV/0! | AD48: =IF(AC47<$AM$38,"exclude","") -> #DIV/0! | AE48: =COUNTIF($H18:$H48,">0")/(COUNTIF($H18:$H48,"<0")+COUNTIF($H18:$H48,">0")) -> #DIV/0! | AF48: =SUM($H18:$H48)/COUNT($H18:$H48) -> #DIV/0! | AG48: =IF(ISERROR(SUMIF($G$1:$G48,">0")/-SUMIF($G$1:$G48,"<0"))=FALSE,SUMIF($G$1:$G48,">0")/-SUMIF($G$1:$G48,"<0"),"") | AI48: =IF(SIGN($G48)=1,1,"") | AJ48: =IF(SIGN($G48)=-1,1,"") | AK48: =G48/H48 -> #DIV/0!
A49: =LEFT(B49,4) | L49: =VLOOKUP(WEEKDAY(I49),daymap,2,0) -> Saturday | M49: =VLOOKUP(WEEKDAY(J49),daymap,2,0) -> Saturday | N49: =YEAR(I49) -> 1900 | O49: =MONTH(I49) -> 1 | P49: =WEEKNUM(I49) -> 0 | Q49: =HOUR(I49) -> 0 | R49: =MINUTE(I49) -> 0 | S49: =YEAR(I49)&"/"&MONTH(I49)&"/"&DAY(I49) -> 1900/1/0 | T49: =2*E49*C49*(IF(AT66<level1,comm1,IF(AT66<level2,comm2,IF(AT66<level3,comm3,IF(AT66<level4,comm4,IF(AT66<level5,comm5,IF(AT66<level6,comm6,IF(AT66<level7,comm7,IF(AT66<level8,comm8,IF(AT66<level9,comm9,0)))))))))) -> 0 | U49: =U48+G49-T49 -> 10000 | V49: =IF(ROW()=2,IF(SIGN($G48)<>SIGN($G49),$G49,$G48+$G49),IF(SIGN($G48)<>SIGN($G49),$G49,$G49+$V48)) -> 0 | W49: =IF(SIGN(H49)=1,IF(AND(H48>0,H49>0),1+W48,IF(H49>0,1,0)),IF(AND(H48<0,H49<0),W48-1,IF(H49<0,-1,0))) -> 0 | X49: =IF(J49="","",ROUNDDOWN(($J49-$I49)*24,0)) | Y49: =IF(J49="","",IF($H49>0,ROUNDDOWN(($J49-$I49)*24,0),"")) | Z49: =IF(J49="","",IF($H49<0,($J49-$I49)*24,"")) | AA49: =ROUNDDOWN((I49-J48)*24*60,0) -> 0 | AB49: =COUNTIF(H$2:H49,">0")/(COUNTIF(H$2:H49,"<0")+COUNTIF(H$2:H49,">0")) -> #DIV/0! | AC49: =ROUND(COUNTIF(H29:H48,">0")/(COUNTIF(H29:H48,"<0")+COUNTIF(H29:H48,">0")),2) -> #DIV/0! | AD49: =IF(AC48<$AM$38,"exclude","") -> #DIV/0! | AE49: =COUNTIF($H19:$H49,">0")/(COUNTIF($H19:$H49,"<0")+COUNTIF($H19:$H49,">0")) -> #DIV/0! | AF49: =SUM($H19:$H49)/COUNT($H19:$H49) -> #DIV/0! | AG49: =IF(ISERROR(SUMIF($G$1:$G49,">0")/-SUMIF($G$1:$G49,"<0"))=FALSE,SUMIF($G$1:$G49,">0")/-SUMIF($G$1:$G49,"<0"),"") | AI49: =IF(SIGN($G49)=1,1,"") | AJ49: =IF(SIGN($G49)=-1,1,"") | AK49: =G49/H49 -> #DIV/0!
A50: =LEFT(B50,4) | L50: =VLOOKUP(WEEKDAY(I50),daymap,2,0) -> Saturday | M50: =VLOOKUP(WEEKDAY(J50),daymap,2,0) -> Saturday | N50: =YEAR(I50) -> 1900 | O50: =MONTH(I50) -> 1 | P50: =WEEKNUM(I50) -> 0 | Q50: =HOUR(I50) -> 0 | R50: =MINUTE(I50) -> 0 | S50: =YEAR(I50)&"/"&MONTH(I50)&"/"&DAY(I50) -> 1900/1/0 | T50: =2*E50*C50*(IF(AT67<level1,comm1,IF(AT67<level2,comm2,IF(AT67<level3,comm3,IF(AT67<level4,comm4,IF(AT67<level5,comm5,IF(AT67<level6,comm6,IF(AT67<level7,comm7,IF(AT67<level8,comm8,IF(AT67<level9,comm9,0)))))))))) -> 0 | U50: =U49+G50-T50 -> 10000 | V50: =IF(ROW()=2,IF(SIGN($G49)<>SIGN($G50),$G50,$G49+$G50),IF(SIGN($G49)<>SIGN($G50),$G50,$G50+$V49)) -> 0 | W50: =IF(SIGN(H50)=1,IF(AND(H49>0,H50>0),1+W49,IF(H50>0,1,0)),IF(AND(H49<0,H50<0),W49-1,IF(H50<0,-1,0))) -> 0 | X50: =IF(J50="","",ROUNDDOWN(($J50-$I50)*24,0)) | Y50: =IF(J50="","",IF($H50>0,ROUNDDOWN(($J50-$I50)*24,0),"")) | Z50: =IF(J50="","",IF($H50<0,($J50-$I50)*24,"")) | AA50: =ROUNDDOWN((I50-J49)*24*60,0) -> 0 | AB50: =COUNTIF(H$2:H50,">0")/(COUNTIF(H$2:H50,"<0")+COUNTIF(H$2:H50,">0")) -> #DIV/0! | AC50: =ROUND(COUNTIF(H30:H49,">0")/(COUNTIF(H30:H49,"<0")+COUNTIF(H30:H49,">0")),2) -> #DIV/0! | AD50: =IF(AC49<$AM$38,"exclude","") -> #DIV/0! | AE50: =COUNTIF($H20:$H50,">0")/(COUNTIF($H20:$H50,"<0")+COUNTIF($H20:$H50,">0")) -> #DIV/0! | AF50: =SUM($H20:$H50)/COUNT($H20:$H50) -> #DIV/0! | AG50: =IF(ISERROR(SUMIF($G$1:$G50,">0")/-SUMIF($G$1:$G50,"<0"))=FALSE,SUMIF($G$1:$G50,">0")/-SUMIF($G$1:$G50,"<0"),"") | AI50: =IF(SIGN($G50)=1,1,"") | AJ50: =IF(SIGN($G50)=-1,1,"") | AK50: =G50/H50 -> #DIV/0!
A51: =LEFT(B51,4) | L51: =VLOOKUP(WEEKDAY(I51),daymap,2,0) -> Saturday | M51: =VLOOKUP(WEEKDAY(J51),daymap,2,0) -> Saturday | N51: =YEAR(I51) -> 1900 | O51: =MONTH(I51) -> 1 | P51: =WEEKNUM(I51) -> 0 | Q51: =HOUR(I51) -> 0 | R51: =MINUTE(I51) -> 0 | S51: =YEAR(I51)&"/"&MONTH(I51)&"/"&DAY(I51) -> 1900/1/0 | T51: =2*E51*C51*(IF(AT68<level1,comm1,IF(AT68<level2,comm2,IF(AT68<level3,comm3,IF(AT68<level4,comm4,IF(AT68<level5,comm5,IF(AT68<level6,comm6,IF(AT68<level7,comm7,IF(AT68<level8,comm8,IF(AT68<level9,comm9,0)))))))))) -> 0 | U51: =U50+G51-T51 -> 10000 | V51: =IF(ROW()=2,IF(SIGN($G50)<>SIGN($G51),$G51,$G50+$G51),IF(SIGN($G50)<>SIGN($G51),$G51,$G51+$V50)) -> 0 | W51: =IF(SIGN(H51)=1,IF(AND(H50>0,H51>0),1+W50,IF(H51>0,1,0)),IF(AND(H50<0,H51<0),W50-1,IF(H51<0,-1,0))) -> 0 | X51: =IF(J51="","",ROUNDDOWN(($J51-$I51)*24,0)) | Y51: =IF(J51="","",IF($H51>0,ROUNDDOWN(($J51-$I51)*24,0),"")) | Z51: =IF(J51="","",IF($H51<0,($J51-$I51)*24,"")) | AA51: =ROUNDDOWN((I51-J50)*24*60,0) -> 0 | AB51: =COUNTIF(H$2:H51,">0")/(COUNTIF(H$2:H51,"<0")+COUNTIF(H$2:H51,">0")) -> #DIV/0! | AC51: =ROUND(COUNTIF(H31:H50,">0")/(COUNTIF(H31:H50,"<0")+COUNTIF(H31:H50,">0")),2) -> #DIV/0! | AD51: =IF(AC50<$AM$38,"exclude","") -> #DIV/0! | AE51: =COUNTIF($H21:$H51,">0")/(COUNTIF($H21:$H51,"<0")+COUNTIF($H21:$H51,">0")) -> #DIV/0! | AF51: =SUM($H21:$H51)/COUNT($H21:$H51) -> #DIV/0! | AG51: =IF(ISERROR(SUMIF($G$1:$G51,">0")/-SUMIF($G$1:$G51,"<0"))=FALSE,SUMIF($G$1:$G51,">0")/-SUMIF($G$1:$G51,"<0"),"") | AI51: =IF(SIGN($G51)=1,1,"") | AJ51: =IF(SIGN($G51)=-1,1,"") | AK51: =G51/H51 -> #DIV/0!
A52: =LEFT(B52,4) | L52: =VLOOKUP(WEEKDAY(I52),daymap,2,0) -> Saturday | M52: =VLOOKUP(WEEKDAY(J52),daymap,2,0) -> Saturday | N52: =YEAR(I52) -> 1900 | O52: =MONTH(I52) -> 1 | P52: =WEEKNUM(I52) -> 0 | Q52: =HOUR(I52) -> 0 | R52: =MINUTE(I52) -> 0 | S52: =YEAR(I52)&"/"&MONTH(I52)&"/"&DAY(I52) -> 1900/1/0 | T52: =2*E52*C52*(IF(AT69<level1,comm1,IF(AT69<level2,comm2,IF(AT69<level3,comm3,IF(AT69<level4,comm4,IF(AT69<level5,comm5,IF(AT69<level6,comm6,IF(AT69<level7,comm7,IF(AT69<level8,comm8,IF(AT69<level9,comm9,0)))))))))) -> 0 | U52: =U51+G52-T52 -> 10000 | V52: =IF(ROW()=2,IF(SIGN($G51)<>SIGN($G52),$G52,$G51+$G52),IF(SIGN($G51)<>SIGN($G52),$G52,$G52+$V51)) -> 0 | W52: =IF(SIGN(H52)=1,IF(AND(H51>0,H52>0),1+W51,IF(H52>0,1,0)),IF(AND(H51<0,H52<0),W51-1,IF(H52<0,-1,0))) -> 0 | X52: =IF(J52="","",ROUNDDOWN(($J52-$I52)*24,0)) | Y52: =IF(J52="","",IF($H52>0,ROUNDDOWN(($J52-$I52)*24,0),"")) | Z52: =IF(J52="","",IF($H52<0,($J52-$I52)*24,"")) | AA52: =ROUNDDOWN((I52-J51)*24*60,0) -> 0 | AB52: =COUNTIF(H$2:H52,">0")/(COUNTIF(H$2:H52,"<0")+COUNTIF(H$2:H52,">0")) -> #DIV/0! | AC52: =ROUND(COUNTIF(H32:H51,">0")/(COUNTIF(H32:H51,"<0")+COUNTIF(H32:H51,">0")),2) -> #DIV/0! | AD52: =IF(AC51<$AM$38,"exclude","") -> #DIV/0! | AE52: =COUNTIF($H22:$H52,">0")/(COUNTIF($H22:$H52,"<0")+COUNTIF($H22:$H52,">0")) -> #DIV/0! | AF52: =SUM($H22:$H52)/COUNT($H22:$H52) -> #DIV/0! | AG52: =IF(ISERROR(SUMIF($G$1:$G52,">0")/-SUMIF($G$1:$G52,"<0"))=FALSE,SUMIF($G$1:$G52,">0")/-SUMIF($G$1:$G52,"<0"),"") | AI52: =IF(SIGN($G52)=1,1,"") | AJ52: =IF(SIGN($G52)=-1,1,"") | AK52: =G52/H52 -> #DIV/0!
A53: =LEFT(B53,4) | L53: =VLOOKUP(WEEKDAY(I53),daymap,2,0) -> Saturday | M53: =VLOOKUP(WEEKDAY(J53),daymap,2,0) -> Saturday | N53: =YEAR(I53) -> 1900 | O53: =MONTH(I53) -> 1 | P53: =WEEKNUM(I53) -> 0 | Q53: =HOUR(I53) -> 0 | R53: =MINUTE(I53) -> 0 | S53: =YEAR(I53)&"/"&MONTH(I53)&"/"&DAY(I53) -> 1900/1/0 | T53: =2*E53*C53*(IF(AT70<level1,comm1,IF(AT70<level2,comm2,IF(AT70<level3,comm3,IF(AT70<level4,comm4,IF(AT70<level5,comm5,IF(AT70<level6,comm6,IF(AT70<level7,comm7,IF(AT70<level8,comm8,IF(AT70<level9,comm9,0)))))))))) -> 0 | U53: =U52+G53-T53 -> 10000 | V53: =IF(ROW()=2,IF(SIGN($G52)<>SIGN($G53),$G53,$G52+$G53),IF(SIGN($G52)<>SIGN($G53),$G53,$G53+$V52)) -> 0 | W53: =IF(SIGN(H53)=1,IF(AND(H52>0,H53>0),1+W52,IF(H53>0,1,0)),IF(AND(H52<0,H53<0),W52-1,IF(H53<0,-1,0))) -> 0 | X53: =IF(J53="","",ROUNDDOWN(($J53-$I53)*24,0)) | Y53: =IF(J53="","",IF($H53>0,ROUNDDOWN(($J53-$I53)*24,0),"")) | Z53: =IF(J53="","",IF($H53<0,($J53-$I53)*24,"")) | AA53: =ROUNDDOWN((I53-J52)*24*60,0) -> 0 | AB53: =COUNTIF(H$2:H53,">0")/(COUNTIF(H$2:H53,"<0")+COUNTIF(H$2:H53,">0")) -> #DIV/0! | AC53: =ROUND(COUNTIF(H33:H52,">0")/(COUNTIF(H33:H52,"<0")+COUNTIF(H33:H52,">0")),2) -> #DIV/0! | AD53: =IF(AC52<$AM$38,"exclude","") -> #DIV/0! | AE53: =COUNTIF($H23:$H53,">0")/(COUNTIF($H23:$H53,"<0")+COUNTIF($H23:$H53,">0")) -> #DIV/0! | AF53: =SUM($H23:$H53)/COUNT($H23:$H53) -> #DIV/0! | AG53: =IF(ISERROR(SUMIF($G$1:$G53,">0")/-SUMIF($G$1:$G53,"<0"))=FALSE,SUMIF($G$1:$G53,">0")/-SUMIF($G$1:$G53,"<0"),"") | AI53: =IF(SIGN($G53)=1,1,"") | AJ53: =IF(SIGN($G53)=-1,1,"") | AK53: =G53/H53 -> #DIV/0!
A54: =LEFT(B54,4) | L54: =VLOOKUP(WEEKDAY(I54),daymap,2,0) -> Saturday | M54: =VLOOKUP(WEEKDAY(J54),daymap,2,0) -> Saturday | N54: =YEAR(I54) -> 1900 | O54: =MONTH(I54) -> 1 | P54: =WEEKNUM(I54) -> 0 | Q54: =HOUR(I54) -> 0 | R54: =MINUTE(I54) -> 0 | S54: =YEAR(I54)&"/"&MONTH(I54)&"/"&DAY(I54) -> 1900/1/0 | T54: =2*E54*C54*(IF(AT71<level1,comm1,IF(AT71<level2,comm2,IF(AT71<level3,comm3,IF(AT71<level4,comm4,IF(AT71<level5,comm5,IF(AT71<level6,comm6,IF(AT71<level7,comm7,IF(AT71<level8,comm8,IF(AT71<level9,comm9,0)))))))))) -> 0 | U54: =U53+G54-T54 -> 10000 | V54: =IF(ROW()=2,IF(SIGN($G53)<>SIGN($G54),$G54,$G53+$G54),IF(SIGN($G53)<>SIGN($G54),$G54,$G54+$V53)) -> 0 | W54: =IF(SIGN(H54)=1,IF(AND(H53>0,H54>0),1+W53,IF(H54>0,1,0)),IF(AND(H53<0,H54<0),W53-1,IF(H54<0,-1,0))) -> 0 | X54: =IF(J54="","",ROUNDDOWN(($J54-$I54)*24,0)) | Y54: =IF(J54="","",IF($H54>0,ROUNDDOWN(($J54-$I54)*24,0),"")) | Z54: =IF(J54="","",IF($H54<0,($J54-$I54)*24,"")) | AA54: =ROUNDDOWN((I54-J53)*24*60,0) -> 0 | AB54: =COUNTIF(H$2:H54,">0")/(COUNTIF(H$2:H54,"<0")+COUNTIF(H$2:H54,">0")) -> #DIV/0! | AC54: =ROUND(COUNTIF(H34:H53,">0")/(COUNTIF(H34:H53,"<0")+COUNTIF(H34:H53,">0")),2) -> #DIV/0! | AD54: =IF(AC53<$AM$38,"exclude","") -> #DIV/0! | AE54: =COUNTIF($H24:$H54,">0")/(COUNTIF($H24:$H54,"<0")+COUNTIF($H24:$H54,">0")) -> #DIV/0! | AF54: =SUM($H24:$H54)/COUNT($H24:$H54) -> #DIV/0! | AG54: =IF(ISERROR(SUMIF($G$1:$G54,">0")/-SUMIF($G$1:$G54,"<0"))=FALSE,SUMIF($G$1:$G54,">0")/-SUMIF($G$1:$G54,"<0"),"") | AI54: =IF(SIGN($G54)=1,1,"") | AJ54: =IF(SIGN($G54)=-1,1,"") | AK54: =G54/H54 -> #DIV/0!
... A570: =LEFT(B570,4) | L570: =VLOOKUP(WEEKDAY(I570),daymap,2,0) -> Saturday | M570: =VLOOKUP(WEEKDAY(J570),daymap,2,0) -> Saturday | N570: =YEAR(I570) -> 1900 | O570: =MONTH(I570) -> 1 | P570: =WEEKNUM(I570) -> 0 | Q570: =HOUR(I570) -> 0 | R570: =MINUTE(I570) -> 0 | S570: =YEAR(I570)&"/"&MONTH(I570)&"/"&DAY(I570) -> 1900/1/0 | T570: =2*E570*C570*(IF(AT587<level1,comm1,IF(AT587<level2,comm2,IF(AT587<level3,comm3,IF(AT587<level4,comm4,IF(AT587<level5,comm5,IF(AT587<level6,comm6,IF(AT587<level7,comm7,IF(AT587<level8,comm8,IF(AT587<level9,comm9,0)))))))))) -> 0 | U570: =U569+G570-T570 -> 10000 | V570: =IF(ROW()=2,IF(SIGN($G569)<>SIGN($G570),$G570,$G569+$G570),IF(SIGN($G569)<>SIGN($G570),$G570,$G570+$V569)) -> 0 | W570: =IF(SIGN(H570)=1,IF(AND(H569>0,H570>0),1+W569,IF(H570>0,1,0)),IF(AND(H569<0,H570<0),W569-1,IF(H570<0,-1,0))) -> 0 | X570: =IF(J570="","",ROUNDDOWN(($J570-$I570)*24,0)) | Y570: =IF(J570="","",IF($H570>0,ROUNDDOWN(($J570-$I570)*24,0),"")) | Z570: =IF(J570="","",IF($H570<0,($J570-$I570)*24,"")) | AA570: =ROUNDDOWN((I570-J569)*24*60,0) -> 0 | AB570: =COUNTIF(H$2:H570,">0")/(COUNTIF(H$2:H570,"<0")+COUNTIF(H$2:H570,">0")) -> #DIV/0! | AC570: =ROUND(COUNTIF(H550:H569,">0")/(COUNTIF(H550:H569,"<0")+COUNTIF(H550:H569,">0")),2) -> #DIV/0! | AD570: =IF(AC569<$AM$38,"exclude","") -> #DIV/0! | AE570: =COUNTIF($H540:$H570,">0")/(COUNTIF($H540:$H570,"<0")+COUNTIF($H540:$H570,">0")) -> #DIV/0! | AF570: =SUM($H540:$H570)/COUNT($H540:$H570) -> #DIV/0! | AG570: =IF(ISERROR(SUMIF($G$1:$G570,">0")/-SUMIF($G$1:$G570,"<0"))=FALSE,SUMIF($G$1:$G570,">0")/-SUMIF($G$1:$G570,"<0"),"") | AI570: =IF(SIGN($G570)=1,1,"") | AJ570: =IF(SIGN($G570)=-1,1,"") | AK570: =G570/H570 -> #DIV/0!
A571: =LEFT(B571,4) | L571: =VLOOKUP(WEEKDAY(I571),daymap,2,0) -> Saturday | M571: =VLOOKUP(WEEKDAY(J571),daymap,2,0) -> Saturday | N571: =YEAR(I571) -> 1900 | O571: =MONTH(I571) -> 1 | P571: =WEEKNUM(I571) -> 0 | Q571: =HOUR(I571) -> 0 | R571: =MINUTE(I571) -> 0 | S571: =YEAR(I571)&"/"&MONTH(I571)&"/"&DAY(I571) -> 1900/1/0 | T571: =2*E571*C571*(IF(AT588<level1,comm1,IF(AT588<level2,comm2,IF(AT588<level3,comm3,IF(AT588<level4,comm4,IF(AT588<level5,comm5,IF(AT588<level6,comm6,IF(AT588<level7,comm7,IF(AT588<level8,comm8,IF(AT588<level9,comm9,0)))))))))) -> 0 | U571: =U570+G571-T571 -> 10000 | V571: =IF(ROW()=2,IF(SIGN($G570)<>SIGN($G571),$G571,$G570+$G571),IF(SIGN($G570)<>SIGN($G571),$G571,$G571+$V570)) -> 0 | W571: =IF(SIGN(H571)=1,IF(AND(H570>0,H571>0),1+W570,IF(H571>0,1,0)),IF(AND(H570<0,H571<0),W570-1,IF(H571<0,-1,0))) -> 0 | X571: =IF(J571="","",ROUNDDOWN(($J571-$I571)*24,0)) | Y571: =IF(J571="","",IF($H571>0,ROUNDDOWN(($J571-$I571)*24,0),"")) | Z571: =IF(J571="","",IF($H571<0,($J571-$I571)*24,"")) | AB571: =COUNTIF(H$2:H571,">0")/(COUNTIF(H$2:H571,"<0")+COUNTIF(H$2:H571,">0")) -> #DIV/0! | AC571: =ROUND(COUNTIF(H551:H570,">0")/(COUNTIF(H551:H570,"<0")+COUNTIF(H551:H570,">0")),2) -> #DIV/0! | AD571: =IF(AC570<$AM$38,"exclude","") -> #DIV/0! | AE571: =COUNTIF($H541:$H571,">0")/(COUNTIF($H541:$H571,"<0")+COUNTIF($H541:$H571,">0")) -> #DIV/0! | AF571: =SUM($H541:$H571)/COUNT($H541:$H571) -> #DIV/0! | AG571: =IF(ISERROR(SUMIF($G$1:$G571,">0")/-SUMIF($G$1:$G571,"<0"))=FALSE,SUMIF($G$1:$G571,">0")/-SUMIF($G$1:$G571,"<0"),"") | AI571: =IF(SIGN($G571)=1,1,"") | AJ571: =IF(SIGN($G571)=-1,1,"") | AK571: =G571/H571 -> #DIV/0!
A572: =LEFT(B572,4) | L572: =VLOOKUP(WEEKDAY(I572),daymap,2,0) -> Saturday | M572: =VLOOKUP(WEEKDAY(J572),daymap,2,0) -> Saturday | N572: =YEAR(I572) -> 1900 | O572: =MONTH(I572) -> 1 | P572: =WEEKNUM(I572) -> 0 | Q572: =HOUR(I572) -> 0 | R572: =MINUTE(I572) -> 0 | S572: =YEAR(I572)&"/"&MONTH(I572)&"/"&DAY(I572) -> 1900/1/0 | T572: =2*E572*C572*(IF(AT589<level1,comm1,IF(AT589<level2,comm2,IF(AT589<level3,comm3,IF(AT589<level4,comm4,IF(AT589<level5,comm5,IF(AT589<level6,comm6,IF(AT589<level7,comm7,IF(AT589<level8,comm8,IF(AT589<level9,comm9,0)))))))))) -> 0 | U572: =U571+G572-T572 -> 10000 | V572: =IF(ROW()=2,IF(SIGN($G571)<>SIGN($G572),$G572,$G571+$G572),IF(SIGN($G571)<>SIGN($G572),$G572,$G572+$V571)) -> 0 | W572: =IF(SIGN(H572)=1,IF(AND(H571>0,H572>0),1+W571,IF(H572>0,1,0)),IF(AND(H571<0,H572<0),W571-1,IF(H572<0,-1,0))) -> 0 | X572: =IF(J572="","",ROUNDDOWN(($J572-$I572)*24,0)) | Y572: =IF(J572="","",IF($H572>0,ROUNDDOWN(($J572-$I572)*24,0),"")) | Z572: =IF(J572="","",IF($H572<0,($J572-$I572)*24,"")) | AA572: =ROUNDDOWN((I572-J571)*24*60,0) -> 0 | AB572: =COUNTIF(H$2:H572,">0")/(COUNTIF(H$2:H572,"<0")+COUNTIF(H$2:H572,">0")) -> #DIV/0! | AC572: =ROUND(COUNTIF(H552:H571,">0")/(COUNTIF(H552:H571,"<0")+COUNTIF(H552:H571,">0")),2) -> #DIV/0! | AD572: =IF(AC571<$AM$38,"exclude","") -> #DIV/0! | AE572: =COUNTIF($H542:$H572,">0")/(COUNTIF($H542:$H572,"<0")+COUNTIF($H542:$H572,">0")) -> #DIV/0! | AF572: =SUM($H542:$H572)/COUNT($H542:$H572) -> #DIV/0! | AG572: =IF(ISERROR(SUMIF($G$1:$G572,">0")/-SUMIF($G$1:$G572,"<0"))=FALSE,SUMIF($G$1:$G572,">0")/-SUMIF($G$1:$G572,"<0"),"") | AI572: =IF(SIGN($G572)=1,1,"") | AJ572: =IF(SIGN($G572)=-1,1,"") | AK572: =G572/H572 -> #DIV/0!
A573: =LEFT(B573,4) | L573: =VLOOKUP(WEEKDAY(I573),daymap,2,0) -> Saturday | M573: =VLOOKUP(WEEKDAY(J573),daymap,2,0) -> Saturday | N573: =YEAR(I573) -> 1900 | O573: =MONTH(I573) -> 1 | P573: =WEEKNUM(I573) -> 0 | Q573: =HOUR(I573) -> 0 | R573: =MINUTE(I573) -> 0 | S573: =YEAR(I573)&"/"&MONTH(I573)&"/"&DAY(I573) -> 1900/1/0 | T573: =2*E573*C573*(IF(AT590<level1,comm1,IF(AT590<level2,comm2,IF(AT590<level3,comm3,IF(AT590<level4,comm4,IF(AT590<level5,comm5,IF(AT590<level6,comm6,IF(AT590<level7,comm7,IF(AT590<level8,comm8,IF(AT590<level9,comm9,0)))))))))) -> 0 | U573: =U572+G573-T573 -> 10000 | V573: =IF(ROW()=2,IF(SIGN($G572)<>SIGN($G573),$G573,$G572+$G573),IF(SIGN($G572)<>SIGN($G573),$G573,$G573+$V572)) -> 0 | W573: =IF(SIGN(H573)=1,IF(AND(H572>0,H573>0),1+W572,IF(H573>0,1,0)),IF(AND(H572<0,H573<0),W572-1,IF(H573<0,-1,0))) -> 0 | X573: =IF(J573="","",ROUNDDOWN(($J573-$I573)*24,0)) | Y573: =IF(J573="","",IF($H573>0,ROUNDDOWN(($J573-$I573)*24,0),"")) | Z573: =IF(J573="","",IF($H573<0,($J573-$I573)*24,"")) | AA573: =ROUNDDOWN((I573-J572)*24*60,0) -> 0 | AB573: =COUNTIF(H$2:H573,">0")/(COUNTIF(H$2:H573,"<0")+COUNTIF(H$2:H573,">0")) -> #DIV/0! | AC573: =ROUND(COUNTIF(H553:H572,">0")/(COUNTIF(H553:H572,"<0")+COUNTIF(H553:H572,">0")),2) -> #DIV/0! | AD573: =IF(AC572<$AM$38,"exclude","") -> #DIV/0! | AE573: =COUNTIF($H543:$H573,">0")/(COUNTIF($H543:$H573,"<0")+COUNTIF($H543:$H573,">0")) -> #DIV/0! | AF573: =SUM($H543:$H573)/COUNT($H543:$H573) -> #DIV/0! | AG573: =IF(ISERROR(SUMIF($G$1:$G573,">0")/-SUMIF($G$1:$G573,"<0"))=FALSE,SUMIF($G$1:$G573,">0")/-SUMIF($G$1:$G573,"<0"),"") | AI573: =IF(SIGN($G573)=1,1,"") | AJ573: =IF(SIGN($G573)=-1,1,"") | AK573: =G573/H573 -> #DIV/0!
A574: =LEFT(B574,4) | L574: =VLOOKUP(WEEKDAY(I574),daymap,2,0) -> Saturday | M574: =VLOOKUP(WEEKDAY(J574),daymap,2,0) -> Saturday | N574: =YEAR(I574) -> 1900 | O574: =MONTH(I574) -> 1 | P574: =WEEKNUM(I574) -> 0 | Q574: =HOUR(I574) -> 0 | R574: =MINUTE(I574) -> 0 | S574: =YEAR(I574)&"/"&MONTH(I574)&"/"&DAY(I574) -> 1900/1/0 | T574: =2*E574*C574*(IF(AT591<level1,comm1,IF(AT591<level2,comm2,IF(AT591<level3,comm3,IF(AT591<level4,comm4,IF(AT591<level5,comm5,IF(AT591<level6,comm6,IF(AT591<level7,comm7,IF(AT591<level8,comm8,IF(AT591<level9,comm9,0)))))))))) -> 0 | U574: =U573+G574-T574 -> 10000 | V574: =IF(ROW()=2,IF(SIGN($G573)<>SIGN($G574),$G574,$G573+$G574),IF(SIGN($G573)<>SIGN($G574),$G574,$G574+$V573)) -> 0 | W574: =IF(SIGN(H574)=1,IF(AND(H573>0,H574>0),1+W573,IF(H574>0,1,0)),IF(AND(H573<0,H574<0),W573-1,IF(H574<0,-1,0))) -> 0 | X574: =IF(J574="","",ROUNDDOWN(($J574-$I574)*24,0)) | Y574: =IF(J574="","",IF($H574>0,ROUNDDOWN(($J574-$I574)*24,0),"")) | Z574: =IF(J574="","",IF($H574<0,($J574-$I574)*24,"")) | AA574: =ROUNDDOWN((I574-J573)*24*60,0) -> 0 | AB574: =COUNTIF(H$2:H574,">0")/(COUNTIF(H$2:H574,"<0")+COUNTIF(H$2:H574,">0")) -> #DIV/0! | AC574: =ROUND(COUNTIF(H554:H573,">0")/(COUNTIF(H554:H573,"<0")+COUNTIF(H554:H573,">0")),2) -> #DIV/0! | AD574: =IF(AC573<$AM$38,"exclude","") -> #DIV/0! | AE574: =COUNTIF($H544:$H574,">0")/(COUNTIF($H544:$H574,"<0")+COUNTIF($H544:$H574,">0")) -> #DIV/0! | AF574: =SUM($H544:$H574)/COUNT($H544:$H574) -> #DIV/0! | AG574: =IF(ISERROR(SUMIF($G$1:$G574,">0")/-SUMIF($G$1:$G574,"<0"))=FALSE,SUMIF($G$1:$G574,">0")/-SUMIF($G$1:$G574,"<0"),"") | AI574: =IF(SIGN($G574)=1,1,"") | AJ574: =IF(SIGN($G574)=-1,1,"") | AK574: =G574/H574 -> #DIV/0!
A575: =LEFT(B575,4) | L575: =VLOOKUP(WEEKDAY(I575),daymap,2,0) -> Saturday | M575: =VLOOKUP(WEEKDAY(J575),daymap,2,0) -> Saturday | N575: =YEAR(I575) -> 1900 | O575: =MONTH(I575) -> 1 | P575: =WEEKNUM(I575) -> 0 | Q575: =HOUR(I575) -> 0 | R575: =MINUTE(I575) -> 0 | S575: =YEAR(I575)&"/"&MONTH(I575)&"/"&DAY(I575) -> 1900/1/0 | T575: =2*E575*C575*(IF(AT592<level1,comm1,IF(AT592<level2,comm2,IF(AT592<level3,comm3,IF(AT592<level4,comm4,IF(AT592<level5,comm5,IF(AT592<level6,comm6,IF(AT592<level7,comm7,IF(AT592<level8,comm8,IF(AT592<level9,comm9,0)))))))))) -> 0 | U575: =U574+G575-T575 -> 10000 | V575: =IF(ROW()=2,IF(SIGN($G574)<>SIGN($G575),$G575,$G574+$G575),IF(SIGN($G574)<>SIGN($G575),$G575,$G575+$V574)) -> 0 | W575: =IF(SIGN(H575)=1,IF(AND(H574>0,H575>0),1+W574,IF(H575>0,1,0)),IF(AND(H574<0,H575<0),W574-1,IF(H575<0,-1,0))) -> 0 | X575: =IF(J575="","",ROUNDDOWN(($J575-$I575)*24,0)) | Y575: =IF(J575="","",IF($H575>0,ROUNDDOWN(($J575-$I575)*24,0),"")) | Z575: =IF(J575="","",IF($H575<0,($J575-$I575)*24,"")) | AA575: =ROUNDDOWN((I575-J574)*24*60,0) -> 0 | AB575: =COUNTIF(H$2:H575,">0")/(COUNTIF(H$2:H575,"<0")+COUNTIF(H$2:H575,">0")) -> #DIV/0! | AC575: =ROUND(COUNTIF(H555:H574,">0")/(COUNTIF(H555:H574,"<0")+COUNTIF(H555:H574,">0")),2) -> #DIV/0! | AD575: =IF(AC574<$AM$38,"exclude","") -> #DIV/0! | AE575: =COUNTIF($H545:$H575,">0")/(COUNTIF($H545:$H575,"<0")+COUNTIF($H545:$H575,">0")) -> #DIV/0! | AF575: =SUM($H545:$H575)/COUNT($H545:$H575) -> #DIV/0! | AG575: =IF(ISERROR(SUMIF($G$1:$G575,">0")/-SUMIF($G$1:$G575,"<0"))=FALSE,SUMIF($G$1:$G575,">0")/-SUMIF($G$1:$G575,"<0"),"") | AI575: =IF(SIGN($G575)=1,1,"") | AJ575: =IF(SIGN($G575)=-1,1,"") | AK575: =G575/H575 -> #DIV/0!
A576: =LEFT(B576,4) | L576: =VLOOKUP(WEEKDAY(I576),daymap,2,0) -> Saturday | M576: =VLOOKUP(WEEKDAY(J576),daymap,2,0) -> Saturday | N576: =YEAR(I576) -> 1900 | O576: =MONTH(I576) -> 1 | P576: =WEEKNUM(I576) -> 0 | Q576: =HOUR(I576) -> 0 | R576: =MINUTE(I576) -> 0 | S576: =YEAR(I576)&"/"&MONTH(I576)&"/"&DAY(I576) -> 1900/1/0 | T576: =2*E576*C576*(IF(AT593<level1,comm1,IF(AT593<level2,comm2,IF(AT593<level3,comm3,IF(AT593<level4,comm4,IF(AT593<level5,comm5,IF(AT593<level6,comm6,IF(AT593<level7,comm7,IF(AT593<level8,comm8,IF(AT593<level9,comm9,0)))))))))) -> 0 | U576: =U575+G576-T576 -> 10000 | V576: =IF(ROW()=2,IF(SIGN($G575)<>SIGN($G576),$G576,$G575+$G576),IF(SIGN($G575)<>SIGN($G576),$G576,$G576+$V575)) -> 0 | W576: =IF(SIGN(H576)=1,IF(AND(H575>0,H576>0),1+W575,IF(H576>0,1,0)),IF(AND(H575<0,H576<0),W575-1,IF(H576<0,-1,0))) -> 0 | X576: =IF(J576="","",ROUNDDOWN(($J576-$I576)*24,0)) | Y576: =IF(J576="","",IF($H576>0,ROUNDDOWN(($J576-$I576)*24,0),"")) | Z576: =IF(J576="","",IF($H576<0,($J576-$I576)*24,"")) | AA576: =ROUNDDOWN((I576-J575)*24*60,0) -> 0 | AB576: =COUNTIF(H$2:H576,">0")/(COUNTIF(H$2:H576,"<0")+COUNTIF(H$2:H576,">0")) -> #DIV/0! | AC576: =ROUND(COUNTIF(H556:H575,">0")/(COUNTIF(H556:H575,"<0")+COUNTIF(H556:H575,">0")),2) -> #DIV/0! | AD576: =IF(AC575<$AM$38,"exclude","") -> #DIV/0! | AE576: =COUNTIF($H546:$H576,">0")/(COUNTIF($H546:$H576,"<0")+COUNTIF($H546:$H576,">0")) -> #DIV/0! | AF576: =SUM($H546:$H576)/COUNT($H546:$H576) -> #DIV/0! | AG576: =IF(ISERROR(SUMIF($G$1:$G576,">0")/-SUMIF($G$1:$G576,"<0"))=FALSE,SUMIF($G$1:$G576,">0")/-SUMIF($G$1:$G576,"<0"),"") | AI576: =IF(SIGN($G576)=1,1,"") | AJ576: =IF(SIGN($G576)=-1,1,"") | AK576: =G576/H576 -> #DIV/0!
A577: =LEFT(B577,4) | L577: =VLOOKUP(WEEKDAY(I577),daymap,2,0) -> Saturday | M577: =VLOOKUP(WEEKDAY(J577),daymap,2,0) -> Saturday | N577: =YEAR(I577) -> 1900 | O577: =MONTH(I577) -> 1 | P577: =WEEKNUM(I577) -> 0 | Q577: =HOUR(I577) -> 0 | R577: =MINUTE(I577) -> 0 | S577: =YEAR(I577)&"/"&MONTH(I577)&"/"&DAY(I577) -> 1900/1/0 | T577: =2*E577*C577*(IF(AT594<level1,comm1,IF(AT594<level2,comm2,IF(AT594<level3,comm3,IF(AT594<level4,comm4,IF(AT594<level5,comm5,IF(AT594<level6,comm6,IF(AT594<level7,comm7,IF(AT594<level8,comm8,IF(AT594<level9,comm9,0)))))))))) -> 0 | U577: =U576+G577-T577 -> 10000 | V577: =IF(ROW()=2,IF(SIGN($G576)<>SIGN($G577),$G577,$G576+$G577),IF(SIGN($G576)<>SIGN($G577),$G577,$G577+$V576)) -> 0 | W577: =IF(SIGN(H577)=1,IF(AND(H576>0,H577>0),1+W576,IF(H577>0,1,0)),IF(AND(H576<0,H577<0),W576-1,IF(H577<0,-1,0))) -> 0 | X577: =IF(J577="","",ROUNDDOWN(($J577-$I577)*24,0)) | Y577: =IF(J577="","",IF($H577>0,ROUNDDOWN(($J577-$I577)*24,0),"")) | Z577: =IF(J577="","",IF($H577<0,($J577-$I577)*24,"")) | AA577: =ROUNDDOWN((I577-J576)*24*60,0) -> 0 | AB577: =COUNTIF(H$2:H577,">0")/(COUNTIF(H$2:H577,"<0")+COUNTIF(H$2:H577,">0")) -> #DIV/0! | AC577: =ROUND(COUNTIF(H557:H576,">0")/(COUNTIF(H557:H576,"<0")+COUNTIF(H557:H576,">0")),2) -> #DIV/0! | AD577: =IF(AC576<$AM$38,"exclude","") -> #DIV/0! | AE577: =COUNTIF($H547:$H577,">0")/(COUNTIF($H547:$H577,"<0")+COUNTIF($H547:$H577,">0")) -> #DIV/0! | AF577: =SUM($H547:$H577)/COUNT($H547:$H577) -> #DIV/0! | AG577: =IF(ISERROR(SUMIF($G$1:$G577,">0")/-SUMIF($G$1:$G577,"<0"))=FALSE,SUMIF($G$1:$G577,">0")/-SUMIF($G$1:$G577,"<0"),"") | AI577: =IF(SIGN($G577)=1,1,"") | AJ577: =IF(SIGN($G577)=-1,1,"") | AK577: =G577/H577 -> #DIV/0!
A578: =LEFT(B578,4) | L578: =VLOOKUP(WEEKDAY(I578),daymap,2,0) -> Saturday | M578: =VLOOKUP(WEEKDAY(J578),daymap,2,0) -> Saturday | N578: =YEAR(I578) -> 1900 | O578: =MONTH(I578) -> 1 | P578: =WEEKNUM(I578) -> 0 | Q578: =HOUR(I578) -> 0 | R578: =MINUTE(I578) -> 0 | S578: =YEAR(I578)&"/"&MONTH(I578)&"/"&DAY(I578) -> 1900/1/0 | T578: =2*E578*C578*(IF(AT595<level1,comm1,IF(AT595<level2,comm2,IF(AT595<level3,comm3,IF(AT595<level4,comm4,IF(AT595<level5,comm5,IF(AT595<level6,comm6,IF(AT595<level7,comm7,IF(AT595<level8,comm8,IF(AT595<level9,comm9,0)))))))))) -> 0 | U578: =U577+G578-T578 -> 10000 | V578: =IF(ROW()=2,IF(SIGN($G577)<>SIGN($G578),$G578,$G577+$G578),IF(SIGN($G577)<>SIGN($G578),$G578,$G578+$V577)) -> 0 | W578: =IF(SIGN(H578)=1,IF(AND(H577>0,H578>0),1+W577,IF(H578>0,1,0)),IF(AND(H577<0,H578<0),W577-1,IF(H578<0,-1,0))) -> 0 | X578: =IF(J578="","",ROUNDDOWN(($J578-$I578)*24,0)) | Y578: =IF(J578="","",IF($H578>0,ROUNDDOWN(($J578-$I578)*24,0),"")) | Z578: =IF(J578="","",IF($H578<0,($J578-$I578)*24,"")) | AA578: =ROUNDDOWN((I578-J577)*24*60,0) -> 0 | AB578: =COUNTIF(H$2:H578,">0")/(COUNTIF(H$2:H578,"<0")+COUNTIF(H$2:H578,">0")) -> #DIV/0! | AC578: =ROUND(COUNTIF(H558:H577,">0")/(COUNTIF(H558:H577,"<0")+COUNTIF(H558:H577,">0")),2) -> #DIV/0! | AD578: =IF(AC577<$AM$38,"exclude","") -> #DIV/0! | AE578: =COUNTIF($H548:$H578,">0")/(COUNTIF($H548:$H578,"<0")+COUNTIF($H548:$H578,">0")) -> #DIV/0! | AF578: =SUM($H548:$H578)/COUNT($H548:$H578) -> #DIV/0! | AG578: =IF(ISERROR(SUMIF($G$1:$G578,">0")/-SUMIF($G$1:$G578,"<0"))=FALSE,SUMIF($G$1:$G578,">0")/-SUMIF($G$1:$G578,"<0"),"") | AI578: =IF(SIGN($G578)=1,1,"") | AJ578: =IF(SIGN($G578)=-1,1,"") | AK578: =G578/H578 -> #DIV/0!
A579: =LEFT(B579,4) | L579: =VLOOKUP(WEEKDAY(I579),daymap,2,0) -> Saturday | M579: =VLOOKUP(WEEKDAY(J579),daymap,2,0) -> Saturday | N579: =YEAR(I579) -> 1900 | O579: =MONTH(I579) -> 1 | P579: =WEEKNUM(I579) -> 0 | Q579: =HOUR(I579) -> 0 | R579: =MINUTE(I579) -> 0 | S579: =YEAR(I579)&"/"&MONTH(I579)&"/"&DAY(I579) -> 1900/1/0 | T579: =2*E579*C579*(IF(AT596<level1,comm1,IF(AT596<level2,comm2,IF(AT596<level3,comm3,IF(AT596<level4,comm4,IF(AT596<level5,comm5,IF(AT596<level6,comm6,IF(AT596<level7,comm7,IF(AT596<level8,comm8,IF(AT596<level9,comm9,0)))))))))) -> 0 | U579: =U578+G579-T579 -> 10000 | V579: =IF(ROW()=2,IF(SIGN($G578)<>SIGN($G579),$G579,$G578+$G579),IF(SIGN($G578)<>SIGN($G579),$G579,$G579+$V578)) -> 0 | W579: =IF(SIGN(H579)=1,IF(AND(H578>0,H579>0),1+W578,IF(H579>0,1,0)),IF(AND(H578<0,H579<0),W578-1,IF(H579<0,-1,0))) -> 0 | X579: =IF(J579="","",ROUNDDOWN(($J579-$I579)*24,0)) | Y579: =IF(J579="","",IF($H579>0,ROUNDDOWN(($J579-$I579)*24,0),"")) | Z579: =IF(J579="","",IF($H579<0,($J579-$I579)*24,"")) | AA579: =ROUNDDOWN((I579-J578)*24*60,0) -> 0 | AB579: =COUNTIF(H$2:H579,">0")/(COUNTIF(H$2:H579,"<0")+COUNTIF(H$2:H579,">0")) -> #DIV/0! | AC579: =ROUND(COUNTIF(H559:H578,">0")/(COUNTIF(H559:H578,"<0")+COUNTIF(H559:H578,">0")),2) -> #DIV/0! | AD579: =IF(AC578<$AM$38,"exclude","") -> #DIV/0! | AE579: =COUNTIF($H549:$H579,">0")/(COUNTIF($H549:$H579,"<0")+COUNTIF($H549:$H579,">0")) -> #DIV/0! | AF579: =SUM($H549:$H579)/COUNT($H549:$H579) -> #DIV/0! | AG579: =IF(ISERROR(SUMIF($G$1:$G579,">0")/-SUMIF($G$1:$G579,"<0"))=FALSE,SUMIF($G$1:$G579,">0")/-SUMIF($G$1:$G579,"<0"),"") | AI579: =IF(SIGN($G579)=1,1,"") | AJ579: =IF(SIGN($G579)=-1,1,"") | AK579: =G579/H579 -> #DIV/0!
A580: =LEFT(B580,4) | L580: =VLOOKUP(WEEKDAY(I580),daymap,2,0) -> Saturday | M580: =VLOOKUP(WEEKDAY(J580),daymap,2,0) -> Saturday | N580: =YEAR(I580) -> 1900 | O580: =MONTH(I580) -> 1 | P580: =WEEKNUM(I580) -> 0 | Q580: =HOUR(I580) -> 0 | R580: =MINUTE(I580) -> 0 | S580: =YEAR(I580)&"/"&MONTH(I580)&"/"&DAY(I580) -> 1900/1/0 | T580: =2*E580*C580*(IF(AT597<level1,comm1,IF(AT597<level2,comm2,IF(AT597<level3,comm3,IF(AT597<level4,comm4,IF(AT597<level5,comm5,IF(AT597<level6,comm6,IF(AT597<level7,comm7,IF(AT597<level8,comm8,IF(AT597<level9,comm9,0)))))))))) -> 0 | U580: =U579+G580-T580 -> 10000 | V580: =IF(ROW()=2,IF(SIGN($G579)<>SIGN($G580),$G580,$G579+$G580),IF(SIGN($G579)<>SIGN($G580),$G580,$G580+$V579)) -> 0 | W580: =IF(SIGN(H580)=1,IF(AND(H579>0,H580>0),1+W579,IF(H580>0,1,0)),IF(AND(H579<0,H580<0),W579-1,IF(H580<0,-1,0))) -> 0 | X580: =IF(J580="","",ROUNDDOWN(($J580-$I580)*24,0)) | Y580: =IF(J580="","",IF($H580>0,ROUNDDOWN(($J580-$I580)*24,0),"")) | Z580: =IF(J580="","",IF($H580<0,($J580-$I580)*24,"")) | AA580: =ROUNDDOWN((I580-J579)*24*60,0) -> 0 | AB580: =COUNTIF(H$2:H580,">0")/(COUNTIF(H$2:H580,"<0")+COUNTIF(H$2:H580,">0")) -> #DIV/0! | AC580: =ROUND(COUNTIF(H560:H579,">0")/(COUNTIF(H560:H579,"<0")+COUNTIF(H560:H579,">0")),2) -> #DIV/0! | AD580: =IF(AC579<$AM$38,"exclude","") -> #DIV/0! | AE580: =COUNTIF($H550:$H580,">0")/(COUNTIF($H550:$H580,"<0")+COUNTIF($H550:$H580,">0")) -> #DIV/0! | AF580: =SUM($H550:$H580)/COUNT($H550:$H580) -> #DIV/0! | AG580: =IF(ISERROR(SUMIF($G$1:$G580,">0")/-SUMIF($G$1:$G580,"<0"))=FALSE,SUMIF($G$1:$G580,">0")/-SUMIF($G$1:$G580,"<0"),"") | AI580: =IF(SIGN($G580)=1,1,"") | AJ580: =IF(SIGN($G580)=-1,1,"") | AK580: =G580/H580 -> #DIV/0!
A581: =LEFT(B581,4) | L581: =VLOOKUP(WEEKDAY(I581),daymap,2,0) -> Saturday | M581: =VLOOKUP(WEEKDAY(J581),daymap,2,0) -> Saturday | N581: =YEAR(I581) -> 1900 | O581: =MONTH(I581) -> 1 | P581: =WEEKNUM(I581) -> 0 | Q581: =HOUR(I581) -> 0 | R581: =MINUTE(I581) -> 0 | S581: =YEAR(I581)&"/"&MONTH(I581)&"/"&DAY(I581) -> 1900/1/0 | T581: =2*E581*C581*(IF(AT598<level1,comm1,IF(AT598<level2,comm2,IF(AT598<level3,comm3,IF(AT598<level4,comm4,IF(AT598<level5,comm5,IF(AT598<level6,comm6,IF(AT598<level7,comm7,IF(AT598<level8,comm8,IF(AT598<level9,comm9,0)))))))))) -> 0 | U581: =U580+G581-T581 -> 10000 | V581: =IF(ROW()=2,IF(SIGN($G580)<>SIGN($G581),$G581,$G580+$G581),IF(SIGN($G580)<>SIGN($G581),$G581,$G581+$V580)) -> 0 | W581: =IF(SIGN(H581)=1,IF(AND(H580>0,H581>0),1+W580,IF(H581>0,1,0)),IF(AND(H580<0,H581<0),W580-1,IF(H581<0,-1,0))) -> 0 | X581: =IF(J581="","",ROUNDDOWN(($J581-$I581)*24,0)) | Y581: =IF(J581="","",IF($H581>0,ROUNDDOWN(($J581-$I581)*24,0),"")) | Z581: =IF(J581="","",IF($H581<0,($J581-$I581)*24,"")) | AA581: =ROUNDDOWN((I581-J580)*24*60,0) -> 0 | AB581: =COUNTIF(H$2:H581,">0")/(COUNTIF(H$2:H581,"<0")+COUNTIF(H$2:H581,">0")) -> #DIV/0! | AC581: =ROUND(COUNTIF(H561:H580,">0")/(COUNTIF(H561:H580,"<0")+COUNTIF(H561:H580,">0")),2) -> #DIV/0! | AD581: =IF(AC580<$AM$38,"exclude","") -> #DIV/0! | AE581: =COUNTIF($H551:$H581,">0")/(COUNTIF($H551:$H581,"<0")+COUNTIF($H551:$H581,">0")) -> #DIV/0! | AF581: =SUM($H551:$H581)/COUNT($H551:$H581) -> #DIV/0! | AG581: =IF(ISERROR(SUMIF($G$1:$G581,">0")/-SUMIF($G$1:$G581,"<0"))=FALSE,SUMIF($G$1:$G581,">0")/-SUMIF($G$1:$G581,"<0"),"") | AI581: =IF(SIGN($G581)=1,1,"") | AJ581: =IF(SIGN($G581)=-1,1,"") | AK581: =G581/H581 -> #DIV/0!
A582: =LEFT(B582,4) | L582: =VLOOKUP(WEEKDAY(I582),daymap,2,0) -> Saturday | M582: =VLOOKUP(WEEKDAY(J582),daymap,2,0) -> Saturday | N582: =YEAR(I582) -> 1900 | O582: =MONTH(I582) -> 1 | P582: =WEEKNUM(I582) -> 0 | Q582: =HOUR(I582) -> 0 | R582: =MINUTE(I582) -> 0 | S582: =YEAR(I582)&"/"&MONTH(I582)&"/"&DAY(I582) -> 1900/1/0 | T582: =2*E582*C582*(IF(AT599<level1,comm1,IF(AT599<level2,comm2,IF(AT599<level3,comm3,IF(AT599<level4,comm4,IF(AT599<level5,comm5,IF(AT599<level6,comm6,IF(AT599<level7,comm7,IF(AT599<level8,comm8,IF(AT599<level9,comm9,0)))))))))) -> 0 | U582: =U581+G582-T582 -> 10000 | V582: =IF(ROW()=2,IF(SIGN($G581)<>SIGN($G582),$G582,$G581+$G582),IF(SIGN($G581)<>SIGN($G582),$G582,$G582+$V581)) -> 0 | W582: =IF(SIGN(H582)=1,IF(AND(H581>0,H582>0),1+W581,IF(H582>0,1,0)),IF(AND(H581<0,H582<0),W581-1,IF(H582<0,-1,0))) -> 0 | X582: =IF(J582="","",ROUNDDOWN(($J582-$I582)*24,0)) | Y582: =IF(J582="","",IF($H582>0,ROUNDDOWN(($J582-$I582)*24,0),"")) | Z582: =IF(J582="","",IF($H582<0,($J582-$I582)*24,"")) | AA582: =ROUNDDOWN((I582-J581)*24*60,0) -> 0 | AB582: =COUNTIF(H$2:H582,">0")/(COUNTIF(H$2:H582,"<0")+COUNTIF(H$2:H582,">0")) -> #DIV/0! | AC582: =ROUND(COUNTIF(H562:H581,">0")/(COUNTIF(H562:H581,"<0")+COUNTIF(H562:H581,">0")),2) -> #DIV/0! | AD582: =IF(AC581<$AM$38,"exclude","") -> #DIV/0! | AE582: =COUNTIF($H552:$H582,">0")/(COUNTIF($H552:$H582,"<0")+COUNTIF($H552:$H582,">0")) -> #DIV/0! | AF582: =SUM($H552:$H582)/COUNT($H552:$H582) -> #DIV/0! | AG582: =IF(ISERROR(SUMIF($G$1:$G582,">0")/-SUMIF($G$1:$G582,"<0"))=FALSE,SUMIF($G$1:$G582,">0")/-SUMIF($G$1:$G582,"<0"),"") | AI582: =IF(SIGN($G582)=1,1,"") | AJ582: =IF(SIGN($G582)=-1,1,"") | AK582: =G582/H582 -> #DIV/0!
A583: =LEFT(B583,4) | L583: =VLOOKUP(WEEKDAY(I583),daymap,2,0) -> Saturday | M583: =VLOOKUP(WEEKDAY(J583),daymap,2,0) -> Saturday | N583: =YEAR(I583) -> 1900 | O583: =MONTH(I583) -> 1 | P583: =WEEKNUM(I583) -> 0 | Q583: =HOUR(I583) -> 0 | R583: =MINUTE(I583) -> 0 | S583: =YEAR(I583)&"/"&MONTH(I583)&"/"&DAY(I583) -> 1900/1/0 | T583: =2*E583*C583*(IF(AT600<level1,comm1,IF(AT600<level2,comm2,IF(AT600<level3,comm3,IF(AT600<level4,comm4,IF(AT600<level5,comm5,IF(AT600<level6,comm6,IF(AT600<level7,comm7,IF(AT600<level8,comm8,IF(AT600<level9,comm9,0)))))))))) -> 0 | U583: =U582+G583-T583 -> 10000 | V583: =IF(ROW()=2,IF(SIGN($G582)<>SIGN($G583),$G583,$G582+$G583),IF(SIGN($G582)<>SIGN($G583),$G583,$G583+$V582)) -> 0 | W583: =IF(SIGN(H583)=1,IF(AND(H582>0,H583>0),1+W582,IF(H583>0,1,0)),IF(AND(H582<0,H583<0),W582-1,IF(H583<0,-1,0))) -> 0 | X583: =IF(J583="","",ROUNDDOWN(($J583-$I583)*24,0)) | Y583: =IF(J583="","",IF($H583>0,ROUNDDOWN(($J583-$I583)*24,0),"")) | Z583: =IF(J583="","",IF($H583<0,($J583-$I583)*24,"")) | AA583: =ROUNDDOWN((I583-J582)*24*60,0) -> 0 | AB583: =COUNTIF(H$2:H583,">0")/(COUNTIF(H$2:H583,"<0")+COUNTIF(H$2:H583,">0")) -> #DIV/0! | AC583: =ROUND(COUNTIF(H563:H582,">0")/(COUNTIF(H563:H582,"<0")+COUNTIF(H563:H582,">0")),2) -> #DIV/0! | AD583: =IF(AC582<$AM$38,"exclude","") -> #DIV/0! | AE583: =COUNTIF($H553:$H583,">0")/(COUNTIF($H553:$H583,"<0")+COUNTIF($H553:$H583,">0")) -> #DIV/0! | AF583: =SUM($H553:$H583)/COUNT($H553:$H583) -> #DIV/0! | AG583: =IF(ISERROR(SUMIF($G$1:$G583,">0")/-SUMIF($G$1:$G583,"<0"))=FALSE,SUMIF($G$1:$G583,">0")/-SUMIF($G$1:$G583,"<0"),"") | AI583: =IF(SIGN($G583)=1,1,"") | AJ583: =IF(SIGN($G583)=-1,1,"") | AK583: =G583/H583 -> #DIV/0!
... A604: =LEFT(B604,4) | L604: =VLOOKUP(WEEKDAY(I604),daymap,2,0) -> Saturday | M604: =VLOOKUP(WEEKDAY(J604),daymap,2,0) -> Saturday | N604: =YEAR(I604) -> 1900 | O604: =MONTH(I604) -> 1 | P604: =WEEKNUM(I604) -> 0 | Q604: =HOUR(I604) -> 0 | R604: =MINUTE(I604) -> 0 | S604: =YEAR(I604)&"/"&MONTH(I604)&"/"&DAY(I604) -> 1900/1/0 | T604: =2*E604*C604*(IF(AT621<level1,comm1,IF(AT621<level2,comm2,IF(AT621<level3,comm3,IF(AT621<level4,comm4,IF(AT621<level5,comm5,IF(AT621<level6,comm6,IF(AT621<level7,comm7,IF(AT621<level8,comm8,IF(AT621<level9,comm9,0)))))))))) -> 0 | U604: =U603+G604-T604 -> 10000 | V604: =IF(ROW()=2,IF(SIGN($G603)<>SIGN($G604),$G604,$G603+$G604),IF(SIGN($G603)<>SIGN($G604),$G604,$G604+$V603)) -> 0 | W604: =IF(SIGN(H604)=1,IF(AND(H603>0,H604>0),1+W603,IF(H604>0,1,0)),IF(AND(H603<0,H604<0),W603-1,IF(H604<0,-1,0))) -> 0 | X604: =IF(J604="","",ROUNDDOWN(($J604-$I604)*24,0)) | Y604: =IF(J604="","",IF($H604>0,ROUNDDOWN(($J604-$I604)*24,0),"")) | Z604: =IF(J604="","",IF($H604<0,($J604-$I604)*24,"")) | AA604: =ROUNDDOWN((I604-J603)*24*60,0) -> 0 | AB604: =COUNTIF(H$2:H604,">0")/(COUNTIF(H$2:H604,"<0")+COUNTIF(H$2:H604,">0")) -> #DIV/0! | AC604: =ROUND(COUNTIF(H584:H603,">0")/(COUNTIF(H584:H603,"<0")+COUNTIF(H584:H603,">0")),2) -> #DIV/0! | AD604: =IF(AC603<$AM$38,"exclude","") -> #DIV/0! | AE604: =COUNTIF($H574:$H604,">0")/(COUNTIF($H574:$H604,"<0")+COUNTIF($H574:$H604,">0")) -> #DIV/0! | AF604: =SUM($H574:$H604)/COUNT($H574:$H604) -> #DIV/0! | AG604: =IF(ISERROR(SUMIF($G$1:$G604,">0")/-SUMIF($G$1:$G604,"<0"))=FALSE,SUMIF($G$1:$G604,">0")/-SUMIF($G$1:$G604,"<0"),"") | AI604: =IF(SIGN($G604)=1,1,"") | AJ604: =IF(SIGN($G604)=-1,1,"") | AK604: =G604/H604 -> #DIV/0!
A605: =LEFT(B605,4) | L605: =VLOOKUP(WEEKDAY(I605),daymap,2,0) -> Saturday | M605: =VLOOKUP(WEEKDAY(J605),daymap,2,0) -> Saturday | N605: =YEAR(I605) -> 1900 | O605: =MONTH(I605) -> 1 | P605: =WEEKNUM(I605) -> 0 | Q605: =HOUR(I605) -> 0 | R605: =MINUTE(I605) -> 0 | S605: =YEAR(I605)&"/"&MONTH(I605)&"/"&DAY(I605) -> 1900/1/0 | T605: =2*E605*C605*(IF(AT622<level1,comm1,IF(AT622<level2,comm2,IF(AT622<level3,comm3,IF(AT622<level4,comm4,IF(AT622<level5,comm5,IF(AT622<level6,comm6,IF(AT622<level7,comm7,IF(AT622<level8,comm8,IF(AT622<level9,comm9,0)))))))))) -> 0 | U605: =U604+G605-T605 -> 10000 | V605: =IF(ROW()=2,IF(SIGN($G604)<>SIGN($G605),$G605,$G604+$G605),IF(SIGN($G604)<>SIGN($G605),$G605,$G605+$V604)) -> 0 | W605: =IF(SIGN(H605)=1,IF(AND(H604>0,H605>0),1+W604,IF(H605>0,1,0)),IF(AND(H604<0,H605<0),W604-1,IF(H605<0,-1,0))) -> 0 | X605: =IF(J605="","",ROUNDDOWN(($J605-$I605)*24,0)) | Y605: =IF(J605="","",IF($H605>0,ROUNDDOWN(($J605-$I605)*24,0),"")) | Z605: =IF(J605="","",IF($H605<0,($J605-$I605)*24,"")) | AB605: =COUNTIF(H$2:H605,">0")/(COUNTIF(H$2:H605,"<0")+COUNTIF(H$2:H605,">0")) -> #DIV/0! | AC605: =ROUND(COUNTIF(H585:H604,">0")/(COUNTIF(H585:H604,"<0")+COUNTIF(H585:H604,">0")),2) -> #DIV/0! | AD605: =IF(AC604<$AM$38,"exclude","") -> #DIV/0! | AE605: =COUNTIF($H575:$H605,">0")/(COUNTIF($H575:$H605,"<0")+COUNTIF($H575:$H605,">0")) -> #DIV/0! | AF605: =SUM($H575:$H605)/COUNT($H575:$H605) -> #DIV/0! | AG605: =IF(ISERROR(SUMIF($G$1:$G605,">0")/-SUMIF($G$1:$G605,"<0"))=FALSE,SUMIF($G$1:$G605,">0")/-SUMIF($G$1:$G605,"<0"),"") | AI605: =IF(SIGN($G605)=1,1,"") | AJ605: =IF(SIGN($G605)=-1,1,"") | AK605: =G605/H605 -> #DIV/0!
A606: =LEFT(B606,4) | L606: =VLOOKUP(WEEKDAY(I606),daymap,2,0) -> Saturday | M606: =VLOOKUP(WEEKDAY(J606),daymap,2,0) -> Saturday | N606: =YEAR(I606) -> 1900 | O606: =MONTH(I606) -> 1 | P606: =WEEKNUM(I606) -> 0 | Q606: =HOUR(I606) -> 0 | R606: =MINUTE(I606) -> 0 | S606: =YEAR(I606)&"/"&MONTH(I606)&"/"&DAY(I606) -> 1900/1/0 | T606: =2*E606*C606*(IF(AT623<level1,comm1,IF(AT623<level2,comm2,IF(AT623<level3,comm3,IF(AT623<level4,comm4,IF(AT623<level5,comm5,IF(AT623<level6,comm6,IF(AT623<level7,comm7,IF(AT623<level8,comm8,IF(AT623<level9,comm9,0)))))))))) -> 0 | U606: =U605+G606-T606 -> 10000 | V606: =IF(ROW()=2,IF(SIGN($G605)<>SIGN($G606),$G606,$G605+$G606),IF(SIGN($G605)<>SIGN($G606),$G606,$G606+$V605)) -> 0 | W606: =IF(SIGN(H606)=1,IF(AND(H605>0,H606>0),1+W605,IF(H606>0,1,0)),IF(AND(H605<0,H606<0),W605-1,IF(H606<0,-1,0))) -> 0 | X606: =IF(J606="","",ROUNDDOWN(($J606-$I606)*24,0)) | Y606: =IF(J606="","",IF($H606>0,ROUNDDOWN(($J606-$I606)*24,0),"")) | Z606: =IF(J606="","",IF($H606<0,($J606-$I606)*24,"")) | AA606: =ROUNDDOWN((I606-J605)*24*60,0) -> 0 | AB606: =COUNTIF(H$2:H606,">0")/(COUNTIF(H$2:H606,"<0")+COUNTIF(H$2:H606,">0")) -> #DIV/0! | AC606: =ROUND(COUNTIF(H586:H605,">0")/(COUNTIF(H586:H605,"<0")+COUNTIF(H586:H605,">0")),2) -> #DIV/0! | AD606: =IF(AC605<$AM$38,"exclude","") -> #DIV/0! | AE606: =COUNTIF($H576:$H606,">0")/(COUNTIF($H576:$H606,"<0")+COUNTIF($H576:$H606,">0")) -> #DIV/0! | AF606: =SUM($H576:$H606)/COUNT($H576:$H606) -> #DIV/0! | AG606: =IF(ISERROR(SUMIF($G$1:$G606,">0")/-SUMIF($G$1:$G606,"<0"))=FALSE,SUMIF($G$1:$G606,">0")/-SUMIF($G$1:$G606,"<0"),"") | AI606: =IF(SIGN($G606)=1,1,"") | AJ606: =IF(SIGN($G606)=-1,1,"") | AK606: =G606/H606 -> #DIV/0!
A607: =LEFT(B607,4) | L607: =VLOOKUP(WEEKDAY(I607),daymap,2,0) -> Saturday | M607: =VLOOKUP(WEEKDAY(J607),daymap,2,0) -> Saturday | N607: =YEAR(I607) -> 1900 | O607: =MONTH(I607) -> 1 | P607: =WEEKNUM(I607) -> 0 | Q607: =HOUR(I607) -> 0 | R607: =MINUTE(I607) -> 0 | S607: =YEAR(I607)&"/"&MONTH(I607)&"/"&DAY(I607) -> 1900/1/0 | T607: =2*E607*C607*(IF(AT624<level1,comm1,IF(AT624<level2,comm2,IF(AT624<level3,comm3,IF(AT624<level4,comm4,IF(AT624<level5,comm5,IF(AT624<level6,comm6,IF(AT624<level7,comm7,IF(AT624<level8,comm8,IF(AT624<level9,comm9,0)))))))))) -> 0 | U607: =U606+G607-T607 -> 10000 | V607: =IF(ROW()=2,IF(SIGN($G606)<>SIGN($G607),$G607,$G606+$G607),IF(SIGN($G606)<>SIGN($G607),$G607,$G607+$V606)) -> 0 | W607: =IF(SIGN(H607)=1,IF(AND(H606>0,H607>0),1+W606,IF(H607>0,1,0)),IF(AND(H606<0,H607<0),W606-1,IF(H607<0,-1,0))) -> 0 | X607: =IF(J607="","",ROUNDDOWN(($J607-$I607)*24,0)) | Y607: =IF(J607="","",IF($H607>0,ROUNDDOWN(($J607-$I607)*24,0),"")) | Z607: =IF(J607="","",IF($H607<0,($J607-$I607)*24,"")) | AA607: =ROUNDDOWN((I607-J606)*24*60,0) -> 0 | AB607: =COUNTIF(H$2:H607,">0")/(COUNTIF(H$2:H607,"<0")+COUNTIF(H$2:H607,">0")) -> #DIV/0! | AC607: =ROUND(COUNTIF(H587:H606,">0")/(COUNTIF(H587:H606,"<0")+COUNTIF(H587:H606,">0")),2) -> #DIV/0! | AD607: =IF(AC606<$AM$38,"exclude","") -> #DIV/0! | AE607: =COUNTIF($H577:$H607,">0")/(COUNTIF($H577:$H607,"<0")+COUNTIF($H577:$H607,">0")) -> #DIV/0! | AF607: =SUM($H577:$H607)/COUNT($H577:$H607) -> #DIV/0! | AG607: =IF(ISERROR(SUMIF($G$1:$G607,">0")/-SUMIF($G$1:$G607,"<0"))=FALSE,SUMIF($G$1:$G607,">0")/-SUMIF($G$1:$G607,"<0"),"") | AI607: =IF(SIGN($G607)=1,1,"") | AJ607: =IF(SIGN($G607)=-1,1,"") | AK607: =G607/H607 -> #DIV/0!
A608: =LEFT(B608,4) | L608: =VLOOKUP(WEEKDAY(I608),daymap,2,0) -> Saturday | M608: =VLOOKUP(WEEKDAY(J608),daymap,2,0) -> Saturday | N608: =YEAR(I608) -> 1900 | O608: =MONTH(I608) -> 1 | P608: =WEEKNUM(I608) -> 0 | Q608: =HOUR(I608) -> 0 | R608: =MINUTE(I608) -> 0 | S608: =YEAR(I608)&"/"&MONTH(I608)&"/"&DAY(I608) -> 1900/1/0 | T608: =2*E608*C608*(IF(AT625<level1,comm1,IF(AT625<level2,comm2,IF(AT625<level3,comm3,IF(AT625<level4,comm4,IF(AT625<level5,comm5,IF(AT625<level6,comm6,IF(AT625<level7,comm7,IF(AT625<level8,comm8,IF(AT625<level9,comm9,0)))))))))) -> 0 | U608: =U607+G608-T608 -> 10000 | V608: =IF(ROW()=2,IF(SIGN($G607)<>SIGN($G608),$G608,$G607+$G608),IF(SIGN($G607)<>SIGN($G608),$G608,$G608+$V607)) -> 0 | W608: =IF(SIGN(H608)=1,IF(AND(H607>0,H608>0),1+W607,IF(H608>0,1,0)),IF(AND(H607<0,H608<0),W607-1,IF(H608<0,-1,0))) -> 0 | X608: =IF(J608="","",ROUNDDOWN(($J608-$I608)*24,0)) | Y608: =IF(J608="","",IF($H608>0,ROUNDDOWN(($J608-$I608)*24,0),"")) | Z608: =IF(J608="","",IF($H608<0,($J608-$I608)*24,"")) | AB608: =COUNTIF(H$2:H608,">0")/(COUNTIF(H$2:H608,"<0")+COUNTIF(H$2:H608,">0")) -> #DIV/0! | AC608: =ROUND(COUNTIF(H588:H607,">0")/(COUNTIF(H588:H607,"<0")+COUNTIF(H588:H607,">0")),2) -> #DIV/0! | AD608: =IF(AC607<$AM$38,"exclude","") -> #DIV/0! | AE608: =COUNTIF($H578:$H608,">0")/(COUNTIF($H578:$H608,"<0")+COUNTIF($H578:$H608,">0")) -> #DIV/0! | AF608: =SUM($H578:$H608)/COUNT($H578:$H608) -> #DIV/0! | AG608: =IF(ISERROR(SUMIF($G$1:$G608,">0")/-SUMIF($G$1:$G608,"<0"))=FALSE,SUMIF($G$1:$G608,">0")/-SUMIF($G$1:$G608,"<0"),"") | AI608: =IF(SIGN($G608)=1,1,"") | AJ608: =IF(SIGN($G608)=-1,1,"") | AK608: =G608/H608 -> #DIV/0!

Sheet win-loss per week
A1: Instrument | B1: (All) | F1: =COUNTIF(B:B,">=0") -> 1 | G1: =COUNTIF(C:C,">=0") -> 1
B3: Values | E3: count | F3: wins | G3: losses
A4: Row Labels | B4: Sum of win | C4: Sum of loss | E4: 0 | F4: =COUNTIF(B:B,"="&E4)/F$1 -> 1 | G4: =COUNTIF(C:C,"="&E4)/G$1 -> 1
A5: 1900 | E5: 1 | F5: =COUNTIF(B:B,"="&E5)/F$1 -> 0 | G5: =COUNTIF(C:C,"="&E5)/G$1 -> 0
A6: 0 | B6: 0 | C6: 0 | E6: 2 | F6: =COUNTIF(B:B,"="&E6)/F$1 -> 0 | G6: =COUNTIF(C:C,"="&E6)/G$1 -> 0
E7: 3 | F7: =COUNTIF(B:B,"="&E7)/F$1 -> 0 | G7: =COUNTIF(C:C,"="&E7)/G$1 -> 0
E8: 4 | F8: =COUNTIF(B:B,"="&E8)/F$1 -> 0 | G8: =COUNTIF(C:C,"="&E8)/G$1 -> 0
E9: 5 | F9: =COUNTIF(B:B,"="&E9)/F$1 -> 0 | G9: =COUNTIF(C:C,"="&E9)/G$1 -> 0
E10: 6 | F10: =COUNTIF(B:B,"="&E10)/F$1 -> 0 | G10: =COUNTIF(C:C,"="&E10)/G$1 -> 0
E11: 7 | F11: =COUNTIF(B:B,"="&E11)/F$1 -> 0 | G11: =COUNTIF(C:C,"="&E11)/G$1 -> 0
E12: 8 | F12: =COUNTIF(B:B,"="&E12)/F$1 -> 0 | G12: =COUNTIF(C:C,"="&E12)/G$1 -> 0
E13: 9 | F13: =COUNTIF(B:B,"="&E13)/F$1 -> 0 | G13: =COUNTIF(C:C,"="&E13)/G$1 -> 0
E14: 10 | F14: =COUNTIF(B:B,"="&E14)/F$1 -> 0 | G14: =COUNTIF(C:C,"="&E14)/G$1 -> 0
E15: 11 | F15: =COUNTIF(B:B,"="&E15)/F$1 -> 0 | G15: =COUNTIF(C:C,"="&E15)/G$1 -> 0
E16: 12 | F16: =COUNTIF(B:B,"="&E16)/F$1 -> 0 | G16: =COUNTIF(C:C,"="&E16)/G$1 -> 0
E17: 13 | F17: =COUNTIF(B:B,"="&E17)/F$1 -> 0 | G17: =COUNTIF(C:C,"="&E17)/G$1 -> 0
E18: 14 | F18: =COUNTIF(B:B,"="&E18)/F$1 -> 0 | G18: =COUNTIF(C:C,"="&E18)/G$1 -> 0
... E20: 16 | F20: =COUNTIF(B:B,"="&E20)/F$1 -> 0 | G20: =COUNTIF(C:C,"="&E20)/G$1 -> 0

Sheet Lot Size
A1: Instrument | B1: (All)
A3: Row Labels | B3: Average of Amount
A4: 1900
A5: 0
A6: Grand Total

Sheet Weekly performance
A1: Instrument | B1: (All)
B3: Values
A4: Row Labels | B4: Sum of Profit/Loss | C4: Sum of Profit/Loss in pips | D4: Cumulative Eq
A5: 1900
A6: 0 | D6: =RESULT!$B$19+B6 -> 10000
D7: =D6+B7 -> 10000
D8: =D7+B8 -> 10000
D9: =D8+B9 -> 10000
D10: =D9+B10 -> 10000
D11: =D10+B11 -> 10000
D12: =D11+B12 -> 10000
D13: =D12+B13 -> 10000
D14: =D13+B14 -> 10000
D15: =D14+B15 -> 10000
D16: =D15+B16 -> 10000
D17: =D16+B17 -> 10000
D18: =D17+B18 -> 10000
... D57: =D56+B57 -> 10000

Sheet Duration
A1: Instrument | B1: (All)
A3: Row Labels | B3: Sum of Profit/Loss in pips | C3: Cumulative Pips | D3: Max | E3: value
C4: =B4 -> 0 | D4: =IF((C4=MAX(C:C))=TRUE,"Max","") -> Max | E4: =IF(D4="MAX",A4,"") -> 0
C5: =IF(B5<>"",B5+C4,"") | D5: =IF((C5=MAX(C:C))=TRUE,"Max","") | E5: =IF(D5="MAX",A5,"")
C6: =IF(B6<>"",B6+C5,"") | D6: =IF((C6=MAX(C:C))=TRUE,"Max","") | E6: =IF(D6="MAX",A6,"")
C7: =IF(B7<>"",B7+C6,"") | D7: =IF((C7=MAX(C:C))=TRUE,"Max","") | E7: =IF(D7="MAX",A7,"")
C8: =IF(B8<>"",B8+C7,"") | D8: =IF((C8=MAX(C:C))=TRUE,"Max","") | E8: =IF(D8="MAX",A8,"")
C9: =IF(B9<>"",B9+C8,"") | D9: =IF((C9=MAX(C:C))=TRUE,"Max","") | E9: =IF(D9="MAX",A9,"")
C10: =IF(B10<>"",B10+C9,"") | D10: =IF((C10=MAX(C:C))=TRUE,"Max","") | E10: =IF(D10="MAX",A10,"")
C11: =IF(B11<>"",B11+C10,"") | D11: =IF((C11=MAX(C:C))=TRUE,"Max","") | E11: =IF(D11="MAX",A11,"")
C12: =IF(B12<>"",B12+C11,"") | D12: =IF((C12=MAX(C:C))=TRUE,"Max","") | E12: =IF(D12="MAX",A12,"")
C13: =IF(B13<>"",B13+C12,"") | D13: =IF((C13=MAX(C:C))=TRUE,"Max","") | E13: =IF(D13="MAX",A13,"")
C14: =IF(B14<>"",B14+C13,"") | D14: =IF((C14=MAX(C:C))=TRUE,"Max","") | E14: =IF(D14="MAX",A14,"")
C15: =IF(B15<>"",B15+C14,"") | D15: =IF((C15=MAX(C:C))=TRUE,"Max","") | E15: =IF(D15="MAX",A15,"")
C16: =IF(B16<>"",B16+C15,"") | D16: =IF((C16=MAX(C:C))=TRUE,"Max","") | E16: =IF(D16="MAX",A16,"")
... C136: =IF(B136<>"",B136+C135,"") | D136: =IF((C136=MAX(C:C))=TRUE,"Max","") | E136: =IF(D136="MAX",A136,"")
C137: =IF(B137<>"",B137+C136,"")
C138: =IF(B138<>"",B138+C137,"")
C139: =IF(B139<>"",B139+C138,"")
C140: =IF(B140<>"",B140+C139,"")
C141: =IF(B141<>"",B141+C140,"")
C142: =IF(B142<>"",B142+C141,"")
C143: =IF(B143<>"",B143+C142,"")
C144: =IF(B144<>"",B144+C143,"")
C145: =IF(B145<>"",B145+C144,"")
C146: =IF(B146<>"",B146+C145,"")
C147: =IF(B147<>"",B147+C146,"")
C148: =IF(B148<>"",B148+C147,"")
... C336: =IF(B336<>"",B336+C335,"")

Sheet Pip per day-hour
A1: Instrument | B1: (All)
A3: Sum of Profit/Loss in pips | B3: Column Labels
A4: Row Labels | B4: Saturday | C4: Grand Total
A5: 0
A6: Grand Total

Sheet Commission Data
A1: 5000 | B1: 48
A2: 10000 | B2: 38
A3: 25000 | B3: 32
A4: 50000 | B4: 25
A5: 250000 | B5: 18
A6: 500000 | B6: 16
A7: 1000000 | B7: 14
A8: 5000000 | B8: 12
A9: 100000000 | B9: 9
B10: 5
